<?xml version="1.0" encoding="UTF-8"?>
<TileMap version="1.0.0" tilemapservice="https://datacore.unepgrid.ch/geoserver/gwc/service/tms/1.0.0">
  <Title>Average annual temperature for future climate using SRES A2 Scenario (2041 - 2060) from National Center for Atmospheric Research, PCM1</Title>
  <Abstract>Future climate projections from the World Climate Research Programme&apos;s (WCRP&apos;s) CMIP3 multi-model dataset downscaled using the Worldclim 2.5-minute 20th century climate dataset. The CMIP3 multi-model datasets were used for the IPCC 4th Assessment Report. The B1 scenario assumes the most ecologically friendly future. The A1B scenario assumes future energy sources will be balanced between fossil-intensive and non-fossil energy sources. The A2 scenario is characterized by a future world still heavily dependent on fossil fuel consumption. All models are historical and future climate simulations collected from leading modeling centers around the world. The original model simulations are collected and achieved by the Program for Climate Model Diagnosis and Intercomparison (PCMDI) to create the World Climate Research Programme&apos;s (WCRP&apos;s) phase 3 of the Coupled Model Intercomparison Project (CMIP3) multi-model dataset. The downscaled data were produced by Conservation International through collaboration with the Department of Geography, Center of Climatic Research, and Land Tenure Center at the University of Wisconsin and support from the National Center of Ecological Analysis and Synthesis.
&lt;br&gt;
Downscaled Future Climate Scenarios 2.5-minute resolution, 2009. This is a product of Conservation International based on techniques developed in collaboration with the Department of Geography, Center of Climatic Research, and Land Tenure Center at the University of Wisconsin. Additional support provided by the National Center of Ecological Analysis and Synthesis. http://futureclimates.conservation.org (accessed: 06/03/19)</Abstract>
  <SRS>EPSG:3857</SRS>
  <BoundingBox minx="-2.003750834E7" miny="-2.003750834E7" maxx="2.003750834E7" maxy="2.003750834E7"/>
  <Origin x="-2.003750834E7" y="-2.003750834E7"/>
  <TileFormat width="256" height="256" mime-type="image/png" extension="png"/>
  <TileSets profile="local">
    <TileSet href="https://datacore.unepgrid.ch/geoserver/gwc/service/tms/1.0.0/LWP%3Asresa2_ncar_pcm1_5km_2041-2060_debiasedmean_tas_av12_opt@EPSG%3A3857@png/0" units-per-pixel="156543.03390625" order="0"/>
    <TileSet href="https://datacore.unepgrid.ch/geoserver/gwc/service/tms/1.0.0/LWP%3Asresa2_ncar_pcm1_5km_2041-2060_debiasedmean_tas_av12_opt@EPSG%3A3857@png/1" units-per-pixel="78271.516953125" order="1"/>
    <TileSet href="https://datacore.unepgrid.ch/geoserver/gwc/service/tms/1.0.0/LWP%3Asresa2_ncar_pcm1_5km_2041-2060_debiasedmean_tas_av12_opt@EPSG%3A3857@png/2" units-per-pixel="39135.7584765625" order="2"/>
    <TileSet href="https://datacore.unepgrid.ch/geoserver/gwc/service/tms/1.0.0/LWP%3Asresa2_ncar_pcm1_5km_2041-2060_debiasedmean_tas_av12_opt@EPSG%3A3857@png/3" units-per-pixel="19567.87923828125" order="3"/>
    <TileSet href="https://datacore.unepgrid.ch/geoserver/gwc/service/tms/1.0.0/LWP%3Asresa2_ncar_pcm1_5km_2041-2060_debiasedmean_tas_av12_opt@EPSG%3A3857@png/4" units-per-pixel="9783.939619140625" order="4"/>
    <TileSet href="https://datacore.unepgrid.ch/geoserver/gwc/service/tms/1.0.0/LWP%3Asresa2_ncar_pcm1_5km_2041-2060_debiasedmean_tas_av12_opt@EPSG%3A3857@png/5" units-per-pixel="4891.9698095703125" order="5"/>
    <TileSet href="https://datacore.unepgrid.ch/geoserver/gwc/service/tms/1.0.0/LWP%3Asresa2_ncar_pcm1_5km_2041-2060_debiasedmean_tas_av12_opt@EPSG%3A3857@png/6" units-per-pixel="2445.9849047851562" order="6"/>
    <TileSet href="https://datacore.unepgrid.ch/geoserver/gwc/service/tms/1.0.0/LWP%3Asresa2_ncar_pcm1_5km_2041-2060_debiasedmean_tas_av12_opt@EPSG%3A3857@png/7" units-per-pixel="1222.9924523925781" order="7"/>
    <TileSet href="https://datacore.unepgrid.ch/geoserver/gwc/service/tms/1.0.0/LWP%3Asresa2_ncar_pcm1_5km_2041-2060_debiasedmean_tas_av12_opt@EPSG%3A3857@png/8" units-per-pixel="611.4962261962891" order="8"/>
    <TileSet href="https://datacore.unepgrid.ch/geoserver/gwc/service/tms/1.0.0/LWP%3Asresa2_ncar_pcm1_5km_2041-2060_debiasedmean_tas_av12_opt@EPSG%3A3857@png/9" units-per-pixel="305.74811309814453" order="9"/>
    <TileSet href="https://datacore.unepgrid.ch/geoserver/gwc/service/tms/1.0.0/LWP%3Asresa2_ncar_pcm1_5km_2041-2060_debiasedmean_tas_av12_opt@EPSG%3A3857@png/10" units-per-pixel="152.87405654907226" order="10"/>
    <TileSet href="https://datacore.unepgrid.ch/geoserver/gwc/service/tms/1.0.0/LWP%3Asresa2_ncar_pcm1_5km_2041-2060_debiasedmean_tas_av12_opt@EPSG%3A3857@png/11" units-per-pixel="76.43702827453613" order="11"/>
    <TileSet href="https://datacore.unepgrid.ch/geoserver/gwc/service/tms/1.0.0/LWP%3Asresa2_ncar_pcm1_5km_2041-2060_debiasedmean_tas_av12_opt@EPSG%3A3857@png/12" units-per-pixel="38.218514137268066" order="12"/>
    <TileSet href="https://datacore.unepgrid.ch/geoserver/gwc/service/tms/1.0.0/LWP%3Asresa2_ncar_pcm1_5km_2041-2060_debiasedmean_tas_av12_opt@EPSG%3A3857@png/13" units-per-pixel="19.109257068634033" order="13"/>
    <TileSet href="https://datacore.unepgrid.ch/geoserver/gwc/service/tms/1.0.0/LWP%3Asresa2_ncar_pcm1_5km_2041-2060_debiasedmean_tas_av12_opt@EPSG%3A3857@png/14" units-per-pixel="9.554628534317017" order="14"/>
    <TileSet href="https://datacore.unepgrid.ch/geoserver/gwc/service/tms/1.0.0/LWP%3Asresa2_ncar_pcm1_5km_2041-2060_debiasedmean_tas_av12_opt@EPSG%3A3857@png/15" units-per-pixel="4.777314267158508" order="15"/>
    <TileSet href="https://datacore.unepgrid.ch/geoserver/gwc/service/tms/1.0.0/LWP%3Asresa2_ncar_pcm1_5km_2041-2060_debiasedmean_tas_av12_opt@EPSG%3A3857@png/16" units-per-pixel="2.388657133579254" order="16"/>
    <TileSet href="https://datacore.unepgrid.ch/geoserver/gwc/service/tms/1.0.0/LWP%3Asresa2_ncar_pcm1_5km_2041-2060_debiasedmean_tas_av12_opt@EPSG%3A3857@png/17" units-per-pixel="1.194328566789627" order="17"/>
    <TileSet href="https://datacore.unepgrid.ch/geoserver/gwc/service/tms/1.0.0/LWP%3Asresa2_ncar_pcm1_5km_2041-2060_debiasedmean_tas_av12_opt@EPSG%3A3857@png/18" units-per-pixel="0.5971642833948135" order="18"/>
    <TileSet href="https://datacore.unepgrid.ch/geoserver/gwc/service/tms/1.0.0/LWP%3Asresa2_ncar_pcm1_5km_2041-2060_debiasedmean_tas_av12_opt@EPSG%3A3857@png/19" units-per-pixel="0.2985821416974068" order="19"/>
    <TileSet href="https://datacore.unepgrid.ch/geoserver/gwc/service/tms/1.0.0/LWP%3Asresa2_ncar_pcm1_5km_2041-2060_debiasedmean_tas_av12_opt@EPSG%3A3857@png/20" units-per-pixel="0.1492910708487034" order="20"/>
    <TileSet href="https://datacore.unepgrid.ch/geoserver/gwc/service/tms/1.0.0/LWP%3Asresa2_ncar_pcm1_5km_2041-2060_debiasedmean_tas_av12_opt@EPSG%3A3857@png/21" units-per-pixel="0.0746455354243517" order="21"/>
    <TileSet href="https://datacore.unepgrid.ch/geoserver/gwc/service/tms/1.0.0/LWP%3Asresa2_ncar_pcm1_5km_2041-2060_debiasedmean_tas_av12_opt@EPSG%3A3857@png/22" units-per-pixel="0.0373227677121758" order="22"/>
    <TileSet href="https://datacore.unepgrid.ch/geoserver/gwc/service/tms/1.0.0/LWP%3Asresa2_ncar_pcm1_5km_2041-2060_debiasedmean_tas_av12_opt@EPSG%3A3857@png/23" units-per-pixel="0.0186613838560879" order="23"/>
    <TileSet href="https://datacore.unepgrid.ch/geoserver/gwc/service/tms/1.0.0/LWP%3Asresa2_ncar_pcm1_5km_2041-2060_debiasedmean_tas_av12_opt@EPSG%3A3857@png/24" units-per-pixel="0.009330691928044" order="24"/>
    <TileSet href="https://datacore.unepgrid.ch/geoserver/gwc/service/tms/1.0.0/LWP%3Asresa2_ncar_pcm1_5km_2041-2060_debiasedmean_tas_av12_opt@EPSG%3A3857@png/25" units-per-pixel="0.004665345964022" order="25"/>
    <TileSet href="https://datacore.unepgrid.ch/geoserver/gwc/service/tms/1.0.0/LWP%3Asresa2_ncar_pcm1_5km_2041-2060_debiasedmean_tas_av12_opt@EPSG%3A3857@png/26" units-per-pixel="0.002332672982011" order="26"/>
    <TileSet href="https://datacore.unepgrid.ch/geoserver/gwc/service/tms/1.0.0/LWP%3Asresa2_ncar_pcm1_5km_2041-2060_debiasedmean_tas_av12_opt@EPSG%3A3857@png/27" units-per-pixel="0.0011663364910055" order="27"/>
    <TileSet href="https://datacore.unepgrid.ch/geoserver/gwc/service/tms/1.0.0/LWP%3Asresa2_ncar_pcm1_5km_2041-2060_debiasedmean_tas_av12_opt@EPSG%3A3857@png/28" units-per-pixel="5.831682455027E-4" order="28"/>
    <TileSet href="https://datacore.unepgrid.ch/geoserver/gwc/service/tms/1.0.0/LWP%3Asresa2_ncar_pcm1_5km_2041-2060_debiasedmean_tas_av12_opt@EPSG%3A3857@png/29" units-per-pixel="2.915841227514E-4" order="29"/>
    <TileSet href="https://datacore.unepgrid.ch/geoserver/gwc/service/tms/1.0.0/LWP%3Asresa2_ncar_pcm1_5km_2041-2060_debiasedmean_tas_av12_opt@EPSG%3A3857@png/30" units-per-pixel="1.457920613757E-4" order="30"/>
  </TileSets>
</TileMap>