<?xml version="1.0" encoding="UTF-8"?>
<TileMap version="1.0.0" tilemapservice="https://datacore.unepgrid.ch/geoserver/gwc/service/tms/1.0.0">
  <Title>CGMFC-21, MFW, Global Mangrove Levels by Pixel (~30m), 2000 - Hamilton, Stuart, 2015</Title>
  <Abstract>Please visit bit.ly/1lMJ9zj for full information before downloading.
These data is one version of the GIS global mangrove database (MFW). The database is 30 m pixel with global coverage annually for 2000 to 2014. This layer shows the information concerning the year 2000. Data are mangrove loss in the mangrove biome since 2000 as defined by MFW.

CGMFC-21 provides high resolution local, regional, national, and global estimates of annual mangrove forest levels using continuous data from 2000 through to 2012 with the goal of driving mangrove research questions pertaining to biodiversity, climate change, food security, livelihoods, fisheries support, and conservation that have been hindered until now by a lack of suitable data. CGMFC-21 provides the required spatiotemporal resolutions to not only set REDD baseline measures globally in a systematic manner, but also to account for forest degradation as well as deforestation on an annual basis. Countries showing relatively high levels of 21st Century mangrove loss include Myanmar, Guatemala, Malaysia, Cambodia, and Indonesia. Many nations that have reported mangrove deforestation in earlier periods such as Ecuador, Bangladesh and Nigeria, have stabilized their mangrove levels during this period. Indonesia remains by far the largest mangrove holding nation containing between 26.16% and 28.50% of the global mangrove area with a deforestation rate of between 0.26% and 0.63% annually. Global mangrove deforestation continues but at a much reduced rate of between 0.16% and 0.39% annually. Annual mangrove deforestation is now close to zero in the Americas, Africa, and Australia as well as in selected Ramsar sites and protected areas. The global mangrove deforestation pattern during the 21st Century is one of decreasing rates of deforestation, with many nations essentially stable, with the exception of the largest mangrove holding region of Southeast Asia.

(2015-09-01)

Hamilton, S. E., &amp; Casey, D. (2016). Creation of a high spatio-temporal resolution global database of continuous mangrove forest cover for the 21st century (CGMFC-21). Global Ecology and Biogeography, 25(6), 729-738. doi:10.1111/geb.1244. doi: 10.1111/geb.1244</Abstract>
  <SRS>EPSG:3857</SRS>
  <BoundingBox minx="-2.003750834E7" miny="-2.003750834E7" maxx="2.003750834E7" maxy="2.003750834E7"/>
  <Origin x="-2.003750834E7" y="-2.003750834E7"/>
  <TileFormat width="256" height="256" mime-type="image/png" extension="png"/>
  <TileSets profile="local">
    <TileSet href="https://datacore.unepgrid.ch/geoserver/gwc/service/tms/1.0.0/MapX_UNDP%3ACGMFC-21_mangroves_forest_cover_a2000mfw_opt@EPSG%3A3857@png/0" units-per-pixel="156543.03390625" order="0"/>
    <TileSet href="https://datacore.unepgrid.ch/geoserver/gwc/service/tms/1.0.0/MapX_UNDP%3ACGMFC-21_mangroves_forest_cover_a2000mfw_opt@EPSG%3A3857@png/1" units-per-pixel="78271.516953125" order="1"/>
    <TileSet href="https://datacore.unepgrid.ch/geoserver/gwc/service/tms/1.0.0/MapX_UNDP%3ACGMFC-21_mangroves_forest_cover_a2000mfw_opt@EPSG%3A3857@png/2" units-per-pixel="39135.7584765625" order="2"/>
    <TileSet href="https://datacore.unepgrid.ch/geoserver/gwc/service/tms/1.0.0/MapX_UNDP%3ACGMFC-21_mangroves_forest_cover_a2000mfw_opt@EPSG%3A3857@png/3" units-per-pixel="19567.87923828125" order="3"/>
    <TileSet href="https://datacore.unepgrid.ch/geoserver/gwc/service/tms/1.0.0/MapX_UNDP%3ACGMFC-21_mangroves_forest_cover_a2000mfw_opt@EPSG%3A3857@png/4" units-per-pixel="9783.939619140625" order="4"/>
    <TileSet href="https://datacore.unepgrid.ch/geoserver/gwc/service/tms/1.0.0/MapX_UNDP%3ACGMFC-21_mangroves_forest_cover_a2000mfw_opt@EPSG%3A3857@png/5" units-per-pixel="4891.9698095703125" order="5"/>
    <TileSet href="https://datacore.unepgrid.ch/geoserver/gwc/service/tms/1.0.0/MapX_UNDP%3ACGMFC-21_mangroves_forest_cover_a2000mfw_opt@EPSG%3A3857@png/6" units-per-pixel="2445.9849047851562" order="6"/>
    <TileSet href="https://datacore.unepgrid.ch/geoserver/gwc/service/tms/1.0.0/MapX_UNDP%3ACGMFC-21_mangroves_forest_cover_a2000mfw_opt@EPSG%3A3857@png/7" units-per-pixel="1222.9924523925781" order="7"/>
    <TileSet href="https://datacore.unepgrid.ch/geoserver/gwc/service/tms/1.0.0/MapX_UNDP%3ACGMFC-21_mangroves_forest_cover_a2000mfw_opt@EPSG%3A3857@png/8" units-per-pixel="611.4962261962891" order="8"/>
    <TileSet href="https://datacore.unepgrid.ch/geoserver/gwc/service/tms/1.0.0/MapX_UNDP%3ACGMFC-21_mangroves_forest_cover_a2000mfw_opt@EPSG%3A3857@png/9" units-per-pixel="305.74811309814453" order="9"/>
    <TileSet href="https://datacore.unepgrid.ch/geoserver/gwc/service/tms/1.0.0/MapX_UNDP%3ACGMFC-21_mangroves_forest_cover_a2000mfw_opt@EPSG%3A3857@png/10" units-per-pixel="152.87405654907226" order="10"/>
    <TileSet href="https://datacore.unepgrid.ch/geoserver/gwc/service/tms/1.0.0/MapX_UNDP%3ACGMFC-21_mangroves_forest_cover_a2000mfw_opt@EPSG%3A3857@png/11" units-per-pixel="76.43702827453613" order="11"/>
    <TileSet href="https://datacore.unepgrid.ch/geoserver/gwc/service/tms/1.0.0/MapX_UNDP%3ACGMFC-21_mangroves_forest_cover_a2000mfw_opt@EPSG%3A3857@png/12" units-per-pixel="38.218514137268066" order="12"/>
    <TileSet href="https://datacore.unepgrid.ch/geoserver/gwc/service/tms/1.0.0/MapX_UNDP%3ACGMFC-21_mangroves_forest_cover_a2000mfw_opt@EPSG%3A3857@png/13" units-per-pixel="19.109257068634033" order="13"/>
    <TileSet href="https://datacore.unepgrid.ch/geoserver/gwc/service/tms/1.0.0/MapX_UNDP%3ACGMFC-21_mangroves_forest_cover_a2000mfw_opt@EPSG%3A3857@png/14" units-per-pixel="9.554628534317017" order="14"/>
    <TileSet href="https://datacore.unepgrid.ch/geoserver/gwc/service/tms/1.0.0/MapX_UNDP%3ACGMFC-21_mangroves_forest_cover_a2000mfw_opt@EPSG%3A3857@png/15" units-per-pixel="4.777314267158508" order="15"/>
    <TileSet href="https://datacore.unepgrid.ch/geoserver/gwc/service/tms/1.0.0/MapX_UNDP%3ACGMFC-21_mangroves_forest_cover_a2000mfw_opt@EPSG%3A3857@png/16" units-per-pixel="2.388657133579254" order="16"/>
    <TileSet href="https://datacore.unepgrid.ch/geoserver/gwc/service/tms/1.0.0/MapX_UNDP%3ACGMFC-21_mangroves_forest_cover_a2000mfw_opt@EPSG%3A3857@png/17" units-per-pixel="1.194328566789627" order="17"/>
    <TileSet href="https://datacore.unepgrid.ch/geoserver/gwc/service/tms/1.0.0/MapX_UNDP%3ACGMFC-21_mangroves_forest_cover_a2000mfw_opt@EPSG%3A3857@png/18" units-per-pixel="0.5971642833948135" order="18"/>
    <TileSet href="https://datacore.unepgrid.ch/geoserver/gwc/service/tms/1.0.0/MapX_UNDP%3ACGMFC-21_mangroves_forest_cover_a2000mfw_opt@EPSG%3A3857@png/19" units-per-pixel="0.2985821416974068" order="19"/>
    <TileSet href="https://datacore.unepgrid.ch/geoserver/gwc/service/tms/1.0.0/MapX_UNDP%3ACGMFC-21_mangroves_forest_cover_a2000mfw_opt@EPSG%3A3857@png/20" units-per-pixel="0.1492910708487034" order="20"/>
    <TileSet href="https://datacore.unepgrid.ch/geoserver/gwc/service/tms/1.0.0/MapX_UNDP%3ACGMFC-21_mangroves_forest_cover_a2000mfw_opt@EPSG%3A3857@png/21" units-per-pixel="0.0746455354243517" order="21"/>
    <TileSet href="https://datacore.unepgrid.ch/geoserver/gwc/service/tms/1.0.0/MapX_UNDP%3ACGMFC-21_mangroves_forest_cover_a2000mfw_opt@EPSG%3A3857@png/22" units-per-pixel="0.0373227677121758" order="22"/>
    <TileSet href="https://datacore.unepgrid.ch/geoserver/gwc/service/tms/1.0.0/MapX_UNDP%3ACGMFC-21_mangroves_forest_cover_a2000mfw_opt@EPSG%3A3857@png/23" units-per-pixel="0.0186613838560879" order="23"/>
    <TileSet href="https://datacore.unepgrid.ch/geoserver/gwc/service/tms/1.0.0/MapX_UNDP%3ACGMFC-21_mangroves_forest_cover_a2000mfw_opt@EPSG%3A3857@png/24" units-per-pixel="0.009330691928044" order="24"/>
    <TileSet href="https://datacore.unepgrid.ch/geoserver/gwc/service/tms/1.0.0/MapX_UNDP%3ACGMFC-21_mangroves_forest_cover_a2000mfw_opt@EPSG%3A3857@png/25" units-per-pixel="0.004665345964022" order="25"/>
    <TileSet href="https://datacore.unepgrid.ch/geoserver/gwc/service/tms/1.0.0/MapX_UNDP%3ACGMFC-21_mangroves_forest_cover_a2000mfw_opt@EPSG%3A3857@png/26" units-per-pixel="0.002332672982011" order="26"/>
    <TileSet href="https://datacore.unepgrid.ch/geoserver/gwc/service/tms/1.0.0/MapX_UNDP%3ACGMFC-21_mangroves_forest_cover_a2000mfw_opt@EPSG%3A3857@png/27" units-per-pixel="0.0011663364910055" order="27"/>
    <TileSet href="https://datacore.unepgrid.ch/geoserver/gwc/service/tms/1.0.0/MapX_UNDP%3ACGMFC-21_mangroves_forest_cover_a2000mfw_opt@EPSG%3A3857@png/28" units-per-pixel="5.831682455027E-4" order="28"/>
    <TileSet href="https://datacore.unepgrid.ch/geoserver/gwc/service/tms/1.0.0/MapX_UNDP%3ACGMFC-21_mangroves_forest_cover_a2000mfw_opt@EPSG%3A3857@png/29" units-per-pixel="2.915841227514E-4" order="29"/>
    <TileSet href="https://datacore.unepgrid.ch/geoserver/gwc/service/tms/1.0.0/MapX_UNDP%3ACGMFC-21_mangroves_forest_cover_a2000mfw_opt@EPSG%3A3857@png/30" units-per-pixel="1.457920613757E-4" order="30"/>
  </TileSets>
</TileMap>