<?xml version="1.0" encoding="UTF-8"?>
<TileMap version="1.0.0" tilemapservice="https://datacore.unepgrid.ch/geoserver/gwc/service/tms/1.0.0">
  <Title>Global Land Cover -2015 v2.0.7</Title>
  <Abstract>The Climate Change Initiative (CCI) Land Cover (LC) project of the European Space Agency (ESA) delivers consistent global LC maps at 300 m spatial resolution on an annual basis from 1992 to 2015. Each pixel value corresponds to the label of a land cover class defined based on the UN Land Cover Classification System (LCCS). UN Biodiversity Lab shows only the data for year 2015.&lt;br&gt;&lt;br&gt;For further information or to download the full dataset please visit the: &lt;a href=&quot;http://maps.elie.ucl.ac.be/CCI/viewer/&quot;&gt;European Space Agency Climate Change Innitiative&lt;/a&gt;.&lt;br&gt;&lt;br&gt;Citation: European Space Agency Climate Change Initiative, Land Cover project. 2017. 300m Annual Global Land Cover Time Series from 1992 to 2015. Retrieved from http://maps.elie.ucl.ac.be/CCI/viewer/. Accessed through UN Biodiversity Lab, (date). www.unbiodiversitylab.org.</Abstract>
  <SRS>EPSG:3857</SRS>
  <BoundingBox minx="-2.003750834E7" miny="-2.003750834E7" maxx="2.003750834E7" maxy="2.003750834E7"/>
  <Origin x="-2.003750834E7" y="-2.003750834E7"/>
  <TileFormat width="256" height="256" mime-type="image/png" extension="png"/>
  <TileSets profile="local">
    <TileSet href="https://datacore.unepgrid.ch/geoserver/gwc/service/tms/1.0.0/MapX_UNDP%3AESACCI-LC-L4-LCCS-Map-300m-P1Y-1992_2015-v2.0.7_2015@EPSG%3A3857@png/0" units-per-pixel="156543.03390625" order="0"/>
    <TileSet href="https://datacore.unepgrid.ch/geoserver/gwc/service/tms/1.0.0/MapX_UNDP%3AESACCI-LC-L4-LCCS-Map-300m-P1Y-1992_2015-v2.0.7_2015@EPSG%3A3857@png/1" units-per-pixel="78271.516953125" order="1"/>
    <TileSet href="https://datacore.unepgrid.ch/geoserver/gwc/service/tms/1.0.0/MapX_UNDP%3AESACCI-LC-L4-LCCS-Map-300m-P1Y-1992_2015-v2.0.7_2015@EPSG%3A3857@png/2" units-per-pixel="39135.7584765625" order="2"/>
    <TileSet href="https://datacore.unepgrid.ch/geoserver/gwc/service/tms/1.0.0/MapX_UNDP%3AESACCI-LC-L4-LCCS-Map-300m-P1Y-1992_2015-v2.0.7_2015@EPSG%3A3857@png/3" units-per-pixel="19567.87923828125" order="3"/>
    <TileSet href="https://datacore.unepgrid.ch/geoserver/gwc/service/tms/1.0.0/MapX_UNDP%3AESACCI-LC-L4-LCCS-Map-300m-P1Y-1992_2015-v2.0.7_2015@EPSG%3A3857@png/4" units-per-pixel="9783.939619140625" order="4"/>
    <TileSet href="https://datacore.unepgrid.ch/geoserver/gwc/service/tms/1.0.0/MapX_UNDP%3AESACCI-LC-L4-LCCS-Map-300m-P1Y-1992_2015-v2.0.7_2015@EPSG%3A3857@png/5" units-per-pixel="4891.9698095703125" order="5"/>
    <TileSet href="https://datacore.unepgrid.ch/geoserver/gwc/service/tms/1.0.0/MapX_UNDP%3AESACCI-LC-L4-LCCS-Map-300m-P1Y-1992_2015-v2.0.7_2015@EPSG%3A3857@png/6" units-per-pixel="2445.9849047851562" order="6"/>
    <TileSet href="https://datacore.unepgrid.ch/geoserver/gwc/service/tms/1.0.0/MapX_UNDP%3AESACCI-LC-L4-LCCS-Map-300m-P1Y-1992_2015-v2.0.7_2015@EPSG%3A3857@png/7" units-per-pixel="1222.9924523925781" order="7"/>
    <TileSet href="https://datacore.unepgrid.ch/geoserver/gwc/service/tms/1.0.0/MapX_UNDP%3AESACCI-LC-L4-LCCS-Map-300m-P1Y-1992_2015-v2.0.7_2015@EPSG%3A3857@png/8" units-per-pixel="611.4962261962891" order="8"/>
    <TileSet href="https://datacore.unepgrid.ch/geoserver/gwc/service/tms/1.0.0/MapX_UNDP%3AESACCI-LC-L4-LCCS-Map-300m-P1Y-1992_2015-v2.0.7_2015@EPSG%3A3857@png/9" units-per-pixel="305.74811309814453" order="9"/>
    <TileSet href="https://datacore.unepgrid.ch/geoserver/gwc/service/tms/1.0.0/MapX_UNDP%3AESACCI-LC-L4-LCCS-Map-300m-P1Y-1992_2015-v2.0.7_2015@EPSG%3A3857@png/10" units-per-pixel="152.87405654907226" order="10"/>
    <TileSet href="https://datacore.unepgrid.ch/geoserver/gwc/service/tms/1.0.0/MapX_UNDP%3AESACCI-LC-L4-LCCS-Map-300m-P1Y-1992_2015-v2.0.7_2015@EPSG%3A3857@png/11" units-per-pixel="76.43702827453613" order="11"/>
    <TileSet href="https://datacore.unepgrid.ch/geoserver/gwc/service/tms/1.0.0/MapX_UNDP%3AESACCI-LC-L4-LCCS-Map-300m-P1Y-1992_2015-v2.0.7_2015@EPSG%3A3857@png/12" units-per-pixel="38.218514137268066" order="12"/>
    <TileSet href="https://datacore.unepgrid.ch/geoserver/gwc/service/tms/1.0.0/MapX_UNDP%3AESACCI-LC-L4-LCCS-Map-300m-P1Y-1992_2015-v2.0.7_2015@EPSG%3A3857@png/13" units-per-pixel="19.109257068634033" order="13"/>
    <TileSet href="https://datacore.unepgrid.ch/geoserver/gwc/service/tms/1.0.0/MapX_UNDP%3AESACCI-LC-L4-LCCS-Map-300m-P1Y-1992_2015-v2.0.7_2015@EPSG%3A3857@png/14" units-per-pixel="9.554628534317017" order="14"/>
    <TileSet href="https://datacore.unepgrid.ch/geoserver/gwc/service/tms/1.0.0/MapX_UNDP%3AESACCI-LC-L4-LCCS-Map-300m-P1Y-1992_2015-v2.0.7_2015@EPSG%3A3857@png/15" units-per-pixel="4.777314267158508" order="15"/>
    <TileSet href="https://datacore.unepgrid.ch/geoserver/gwc/service/tms/1.0.0/MapX_UNDP%3AESACCI-LC-L4-LCCS-Map-300m-P1Y-1992_2015-v2.0.7_2015@EPSG%3A3857@png/16" units-per-pixel="2.388657133579254" order="16"/>
    <TileSet href="https://datacore.unepgrid.ch/geoserver/gwc/service/tms/1.0.0/MapX_UNDP%3AESACCI-LC-L4-LCCS-Map-300m-P1Y-1992_2015-v2.0.7_2015@EPSG%3A3857@png/17" units-per-pixel="1.194328566789627" order="17"/>
    <TileSet href="https://datacore.unepgrid.ch/geoserver/gwc/service/tms/1.0.0/MapX_UNDP%3AESACCI-LC-L4-LCCS-Map-300m-P1Y-1992_2015-v2.0.7_2015@EPSG%3A3857@png/18" units-per-pixel="0.5971642833948135" order="18"/>
    <TileSet href="https://datacore.unepgrid.ch/geoserver/gwc/service/tms/1.0.0/MapX_UNDP%3AESACCI-LC-L4-LCCS-Map-300m-P1Y-1992_2015-v2.0.7_2015@EPSG%3A3857@png/19" units-per-pixel="0.2985821416974068" order="19"/>
    <TileSet href="https://datacore.unepgrid.ch/geoserver/gwc/service/tms/1.0.0/MapX_UNDP%3AESACCI-LC-L4-LCCS-Map-300m-P1Y-1992_2015-v2.0.7_2015@EPSG%3A3857@png/20" units-per-pixel="0.1492910708487034" order="20"/>
    <TileSet href="https://datacore.unepgrid.ch/geoserver/gwc/service/tms/1.0.0/MapX_UNDP%3AESACCI-LC-L4-LCCS-Map-300m-P1Y-1992_2015-v2.0.7_2015@EPSG%3A3857@png/21" units-per-pixel="0.0746455354243517" order="21"/>
    <TileSet href="https://datacore.unepgrid.ch/geoserver/gwc/service/tms/1.0.0/MapX_UNDP%3AESACCI-LC-L4-LCCS-Map-300m-P1Y-1992_2015-v2.0.7_2015@EPSG%3A3857@png/22" units-per-pixel="0.0373227677121758" order="22"/>
    <TileSet href="https://datacore.unepgrid.ch/geoserver/gwc/service/tms/1.0.0/MapX_UNDP%3AESACCI-LC-L4-LCCS-Map-300m-P1Y-1992_2015-v2.0.7_2015@EPSG%3A3857@png/23" units-per-pixel="0.0186613838560879" order="23"/>
    <TileSet href="https://datacore.unepgrid.ch/geoserver/gwc/service/tms/1.0.0/MapX_UNDP%3AESACCI-LC-L4-LCCS-Map-300m-P1Y-1992_2015-v2.0.7_2015@EPSG%3A3857@png/24" units-per-pixel="0.009330691928044" order="24"/>
    <TileSet href="https://datacore.unepgrid.ch/geoserver/gwc/service/tms/1.0.0/MapX_UNDP%3AESACCI-LC-L4-LCCS-Map-300m-P1Y-1992_2015-v2.0.7_2015@EPSG%3A3857@png/25" units-per-pixel="0.004665345964022" order="25"/>
    <TileSet href="https://datacore.unepgrid.ch/geoserver/gwc/service/tms/1.0.0/MapX_UNDP%3AESACCI-LC-L4-LCCS-Map-300m-P1Y-1992_2015-v2.0.7_2015@EPSG%3A3857@png/26" units-per-pixel="0.002332672982011" order="26"/>
    <TileSet href="https://datacore.unepgrid.ch/geoserver/gwc/service/tms/1.0.0/MapX_UNDP%3AESACCI-LC-L4-LCCS-Map-300m-P1Y-1992_2015-v2.0.7_2015@EPSG%3A3857@png/27" units-per-pixel="0.0011663364910055" order="27"/>
    <TileSet href="https://datacore.unepgrid.ch/geoserver/gwc/service/tms/1.0.0/MapX_UNDP%3AESACCI-LC-L4-LCCS-Map-300m-P1Y-1992_2015-v2.0.7_2015@EPSG%3A3857@png/28" units-per-pixel="5.831682455027E-4" order="28"/>
    <TileSet href="https://datacore.unepgrid.ch/geoserver/gwc/service/tms/1.0.0/MapX_UNDP%3AESACCI-LC-L4-LCCS-Map-300m-P1Y-1992_2015-v2.0.7_2015@EPSG%3A3857@png/29" units-per-pixel="2.915841227514E-4" order="29"/>
    <TileSet href="https://datacore.unepgrid.ch/geoserver/gwc/service/tms/1.0.0/MapX_UNDP%3AESACCI-LC-L4-LCCS-Map-300m-P1Y-1992_2015-v2.0.7_2015@EPSG%3A3857@png/30" units-per-pixel="1.457920613757E-4" order="30"/>
  </TileSets>
</TileMap>