<?xml version="1.0" encoding="UTF-8"?>
<TileMap version="1.0.0" tilemapservice="https://datacore.unepgrid.ch/geoserver/gwc/service/tms/1.0.0">
  <Title>Forest Biodiversity Intactness</Title>
  <Abstract>&lt;span style=&quot;font-size:1em&quot;&gt;
  This newly produced layer assesses the impacts of forest management on biodiversity intactness across the globe. This layer focuses on the forested regions of the planet (natural and non-natural) and estimates biodiversity intactness by using information on forest management based on the layer that has been produced under the umbrella of the Nature Map project (Lesiv et al., 2020) and biodiversity intactness from models derived from the PREDICTS database (Hudson et al., 2017). The Biodiversity Intactness Index (BII) describes the average abundance of a taxonomically and ecologically broad set of species in an area, relative to their abundances in an intact reference ecosystem (Scholes &amp; Biggs, 2005). Demonstrating the relevance of the index, BII has recently been included as a core indicator by IPBES and as an Essential Biodiversity Variable by GEO BON.
  &lt;br&gt;
  &lt;br&gt;
  &lt;u&gt;References:&lt;/u&gt;
  &lt;ul&gt;
    &lt;li&gt;
      Hill, S.L.L. et al. (2018) Worldwide Impacts of Past and Projected Future Land-Use Change on Local Species Richness and the Biodiversity Intactness Index. BioRxiv, May 1, 2018, 311787. &lt;a href=&quot;https://doi.org/10.1101/311787&quot; target=&quot;_blank&quot;&gt;doi.org/10.1101/311787&lt;/a&gt;.
    &lt;/li&gt;
    &lt;li&gt;Hudson, L.N., et al. (2017) The Database of the PREDICTS (Projecting Responses of Ecological Diversity In Changing Terrestrial Systems) Project. Ecology and Evolution 7, no. 1: 145–88. &lt;a href=&quot;https://doi.org/10.1002/ece3.2579&quot; target=&quot;_blank&quot;&gt;doi.org/10.1002/ece3.2579&lt;/a&gt;.
    &lt;/li&gt;
    &lt;li&gt;Lesiv, M., et al. (2020) Methodology for Generating a Global Forest Management Layer. Zenodo, July 7, 2020. &lt;a href=&quot;https://doi.org/10.5281/zenodo.3933966&quot; target=&quot;_blank&quot;&gt;doi.org/10.5281/zenodo.3933966&lt;/a&gt;.
    &lt;/li&gt;
    &lt;li&gt;Newbold, T.  et al. (2016) Has Land Use Pushed Terrestrial Biodiversity beyond the Planetary Boundary? A Global Assessment. Science 353, no. 6296: 288–91.&lt;a href=&quot;https://doi.org/10.1126/science.aaf2201&quot; target=&quot;_blank&quot;&gt;doi.org/10.1126/science.aaf2201.&lt;/a&gt;
    &lt;/li&gt;
    &lt;li&gt;Scholes, R. J. et al. (2005) A Biodiversity Intactness Index. Nature 434, no. 7029: 45–49.&lt;a href=&quot; https://doi.org/10.1038/nature03289.&quot; target=&quot;_blank&quot;&gt;doi.org/10.1038/nature03289.&lt;/a&gt;
    &lt;/li&gt;
    &lt;li&gt;Steffen, W. et al. (2015) Planetary Boundaries: Guiding Human Development on a Changing Planet. Science 347, no. 6223.&lt;a href=&quot;https://doi.org/10.1126/science.1259855.&quot;&gt; doi.org/10.1126/science.1259855.&lt;/a&gt;
    &lt;/li&gt;
  &lt;/ul&gt;
&lt;/span&gt;</Abstract>
  <SRS>EPSG:3857</SRS>
  <BoundingBox minx="-2.003750834E7" miny="-2.003750834E7" maxx="2.003750834E7" maxy="2.003750834E7"/>
  <Origin x="-2.003750834E7" y="-2.003750834E7"/>
  <TileFormat width="256" height="256" mime-type="image/png" extension="png"/>
  <TileSets profile="local">
    <TileSet href="https://datacore.unepgrid.ch/geoserver/gwc/service/tms/1.0.0/MapX_UNDP%3Aforest_biodiversity_intactness_index_naturemap_2020_opt@EPSG%3A3857@png/0" units-per-pixel="156543.03390625" order="0"/>
    <TileSet href="https://datacore.unepgrid.ch/geoserver/gwc/service/tms/1.0.0/MapX_UNDP%3Aforest_biodiversity_intactness_index_naturemap_2020_opt@EPSG%3A3857@png/1" units-per-pixel="78271.516953125" order="1"/>
    <TileSet href="https://datacore.unepgrid.ch/geoserver/gwc/service/tms/1.0.0/MapX_UNDP%3Aforest_biodiversity_intactness_index_naturemap_2020_opt@EPSG%3A3857@png/2" units-per-pixel="39135.7584765625" order="2"/>
    <TileSet href="https://datacore.unepgrid.ch/geoserver/gwc/service/tms/1.0.0/MapX_UNDP%3Aforest_biodiversity_intactness_index_naturemap_2020_opt@EPSG%3A3857@png/3" units-per-pixel="19567.87923828125" order="3"/>
    <TileSet href="https://datacore.unepgrid.ch/geoserver/gwc/service/tms/1.0.0/MapX_UNDP%3Aforest_biodiversity_intactness_index_naturemap_2020_opt@EPSG%3A3857@png/4" units-per-pixel="9783.939619140625" order="4"/>
    <TileSet href="https://datacore.unepgrid.ch/geoserver/gwc/service/tms/1.0.0/MapX_UNDP%3Aforest_biodiversity_intactness_index_naturemap_2020_opt@EPSG%3A3857@png/5" units-per-pixel="4891.9698095703125" order="5"/>
    <TileSet href="https://datacore.unepgrid.ch/geoserver/gwc/service/tms/1.0.0/MapX_UNDP%3Aforest_biodiversity_intactness_index_naturemap_2020_opt@EPSG%3A3857@png/6" units-per-pixel="2445.9849047851562" order="6"/>
    <TileSet href="https://datacore.unepgrid.ch/geoserver/gwc/service/tms/1.0.0/MapX_UNDP%3Aforest_biodiversity_intactness_index_naturemap_2020_opt@EPSG%3A3857@png/7" units-per-pixel="1222.9924523925781" order="7"/>
    <TileSet href="https://datacore.unepgrid.ch/geoserver/gwc/service/tms/1.0.0/MapX_UNDP%3Aforest_biodiversity_intactness_index_naturemap_2020_opt@EPSG%3A3857@png/8" units-per-pixel="611.4962261962891" order="8"/>
    <TileSet href="https://datacore.unepgrid.ch/geoserver/gwc/service/tms/1.0.0/MapX_UNDP%3Aforest_biodiversity_intactness_index_naturemap_2020_opt@EPSG%3A3857@png/9" units-per-pixel="305.74811309814453" order="9"/>
    <TileSet href="https://datacore.unepgrid.ch/geoserver/gwc/service/tms/1.0.0/MapX_UNDP%3Aforest_biodiversity_intactness_index_naturemap_2020_opt@EPSG%3A3857@png/10" units-per-pixel="152.87405654907226" order="10"/>
    <TileSet href="https://datacore.unepgrid.ch/geoserver/gwc/service/tms/1.0.0/MapX_UNDP%3Aforest_biodiversity_intactness_index_naturemap_2020_opt@EPSG%3A3857@png/11" units-per-pixel="76.43702827453613" order="11"/>
    <TileSet href="https://datacore.unepgrid.ch/geoserver/gwc/service/tms/1.0.0/MapX_UNDP%3Aforest_biodiversity_intactness_index_naturemap_2020_opt@EPSG%3A3857@png/12" units-per-pixel="38.218514137268066" order="12"/>
    <TileSet href="https://datacore.unepgrid.ch/geoserver/gwc/service/tms/1.0.0/MapX_UNDP%3Aforest_biodiversity_intactness_index_naturemap_2020_opt@EPSG%3A3857@png/13" units-per-pixel="19.109257068634033" order="13"/>
    <TileSet href="https://datacore.unepgrid.ch/geoserver/gwc/service/tms/1.0.0/MapX_UNDP%3Aforest_biodiversity_intactness_index_naturemap_2020_opt@EPSG%3A3857@png/14" units-per-pixel="9.554628534317017" order="14"/>
    <TileSet href="https://datacore.unepgrid.ch/geoserver/gwc/service/tms/1.0.0/MapX_UNDP%3Aforest_biodiversity_intactness_index_naturemap_2020_opt@EPSG%3A3857@png/15" units-per-pixel="4.777314267158508" order="15"/>
    <TileSet href="https://datacore.unepgrid.ch/geoserver/gwc/service/tms/1.0.0/MapX_UNDP%3Aforest_biodiversity_intactness_index_naturemap_2020_opt@EPSG%3A3857@png/16" units-per-pixel="2.388657133579254" order="16"/>
    <TileSet href="https://datacore.unepgrid.ch/geoserver/gwc/service/tms/1.0.0/MapX_UNDP%3Aforest_biodiversity_intactness_index_naturemap_2020_opt@EPSG%3A3857@png/17" units-per-pixel="1.194328566789627" order="17"/>
    <TileSet href="https://datacore.unepgrid.ch/geoserver/gwc/service/tms/1.0.0/MapX_UNDP%3Aforest_biodiversity_intactness_index_naturemap_2020_opt@EPSG%3A3857@png/18" units-per-pixel="0.5971642833948135" order="18"/>
    <TileSet href="https://datacore.unepgrid.ch/geoserver/gwc/service/tms/1.0.0/MapX_UNDP%3Aforest_biodiversity_intactness_index_naturemap_2020_opt@EPSG%3A3857@png/19" units-per-pixel="0.2985821416974068" order="19"/>
    <TileSet href="https://datacore.unepgrid.ch/geoserver/gwc/service/tms/1.0.0/MapX_UNDP%3Aforest_biodiversity_intactness_index_naturemap_2020_opt@EPSG%3A3857@png/20" units-per-pixel="0.1492910708487034" order="20"/>
    <TileSet href="https://datacore.unepgrid.ch/geoserver/gwc/service/tms/1.0.0/MapX_UNDP%3Aforest_biodiversity_intactness_index_naturemap_2020_opt@EPSG%3A3857@png/21" units-per-pixel="0.0746455354243517" order="21"/>
    <TileSet href="https://datacore.unepgrid.ch/geoserver/gwc/service/tms/1.0.0/MapX_UNDP%3Aforest_biodiversity_intactness_index_naturemap_2020_opt@EPSG%3A3857@png/22" units-per-pixel="0.0373227677121758" order="22"/>
    <TileSet href="https://datacore.unepgrid.ch/geoserver/gwc/service/tms/1.0.0/MapX_UNDP%3Aforest_biodiversity_intactness_index_naturemap_2020_opt@EPSG%3A3857@png/23" units-per-pixel="0.0186613838560879" order="23"/>
    <TileSet href="https://datacore.unepgrid.ch/geoserver/gwc/service/tms/1.0.0/MapX_UNDP%3Aforest_biodiversity_intactness_index_naturemap_2020_opt@EPSG%3A3857@png/24" units-per-pixel="0.009330691928044" order="24"/>
    <TileSet href="https://datacore.unepgrid.ch/geoserver/gwc/service/tms/1.0.0/MapX_UNDP%3Aforest_biodiversity_intactness_index_naturemap_2020_opt@EPSG%3A3857@png/25" units-per-pixel="0.004665345964022" order="25"/>
    <TileSet href="https://datacore.unepgrid.ch/geoserver/gwc/service/tms/1.0.0/MapX_UNDP%3Aforest_biodiversity_intactness_index_naturemap_2020_opt@EPSG%3A3857@png/26" units-per-pixel="0.002332672982011" order="26"/>
    <TileSet href="https://datacore.unepgrid.ch/geoserver/gwc/service/tms/1.0.0/MapX_UNDP%3Aforest_biodiversity_intactness_index_naturemap_2020_opt@EPSG%3A3857@png/27" units-per-pixel="0.0011663364910055" order="27"/>
    <TileSet href="https://datacore.unepgrid.ch/geoserver/gwc/service/tms/1.0.0/MapX_UNDP%3Aforest_biodiversity_intactness_index_naturemap_2020_opt@EPSG%3A3857@png/28" units-per-pixel="5.831682455027E-4" order="28"/>
    <TileSet href="https://datacore.unepgrid.ch/geoserver/gwc/service/tms/1.0.0/MapX_UNDP%3Aforest_biodiversity_intactness_index_naturemap_2020_opt@EPSG%3A3857@png/29" units-per-pixel="2.915841227514E-4" order="29"/>
    <TileSet href="https://datacore.unepgrid.ch/geoserver/gwc/service/tms/1.0.0/MapX_UNDP%3Aforest_biodiversity_intactness_index_naturemap_2020_opt@EPSG%3A3857@png/30" units-per-pixel="1.457920613757E-4" order="30"/>
  </TileSets>
</TileMap>