<?xml version="1.0" encoding="UTF-8"?>
<TileMap version="1.0.0" tilemapservice="https://datacore.unepgrid.ch/geoserver/gwc/service/tms/1.0.0">
  <Title>Global Grid of Probabilities of Urban Expansion to 2030</Title>
  <Abstract>The Global Grid of Probabilities of Urban Expansion to 2030 presents spatially explicit probabilistic forecasts of global urban land cover change from 2000 to 2030 at a 2.5 arc-minute resolution. For each grid cell that is non-urban in 2000, a Monte-Carlo model assigned a probability of becoming urban by the year 2030. The authors first extracted urban extent circa 2000 from the NASA MODIS Land Cover Type Product Version 5, which provides a conservative estimate of global urban land cover. The authors then used population densities from the Global Rural-Urban Mapping Project, Version 1 (GRUMPv1) to create the population density driver map. They estimated the amount of new urban land in each United Nations region by 2030 in a Monte-Carlo fashion based on present empirical distribution of regional urban population densities and probability density functions of projected regional population and GDP values for 2030. To facilitate integration with other data products, CIESIN reprojected the data from Goode&apos;s Homolosine to Geographic WGS84 projection. We recommend using the Goode Homolosine equal area projection for data analysis.

NOTES CONCERNING THE DATA

Although regions were not excluded in the creation of these data some small urban areas, such as Tromso and Norilsk, are missing. This is a result of resampling the input land-cover data from 463 meters to 5 kilometers as described in the documentation.
ACCESSING THE DATA

The data may be downloaded via the World Wide Web at http://sedac.ciesin.columbia.edu/data/set/lulc-global-grid-prob-urban-expansion-2030.

The data are available in a compressed zipfile of GeoTIFF format. The downloaded files need to be uncompressed in a single folder using either WinZip (Windows file compression utility) or a similar application before it can be accessed by your GIS software package.
DATA FORMAT

Two files containing probability of urban expansion grids in GeoTIFF format are available in the download.

The WGS84 archive is in geographic coordinates of decimal degrees based on the World Geodetic System spheroid of 1984.

The Goode Homolosine archive is in projected coordinates based on the pseudocylindrical, equal-area, composite map, Goode Homolosine projection.

File naming convention:

urban-expansion-2000-to-2030-wgs84	WGS 1984, with 0.048125633 decimal degree resolution
urban-expansion-2000-to-2030-goode	Goode Homolosine, with 5 kilometer resolution</Abstract>
  <SRS>EPSG:3857</SRS>
  <BoundingBox minx="-2.003750834E7" miny="-2.003750834E7" maxx="2.003750834E7" maxy="2.003750834E7"/>
  <Origin x="-2.003750834E7" y="-2.003750834E7"/>
  <TileFormat width="256" height="256" mime-type="image/png" extension="png"/>
  <TileSets profile="local">
    <TileSet href="https://datacore.unepgrid.ch/geoserver/gwc/service/tms/1.0.0/MapX_UNDP%3Aglobal_grid_prob_expansion_2030_unused@EPSG%3A3857@png/0" units-per-pixel="156543.03390625" order="0"/>
    <TileSet href="https://datacore.unepgrid.ch/geoserver/gwc/service/tms/1.0.0/MapX_UNDP%3Aglobal_grid_prob_expansion_2030_unused@EPSG%3A3857@png/1" units-per-pixel="78271.516953125" order="1"/>
    <TileSet href="https://datacore.unepgrid.ch/geoserver/gwc/service/tms/1.0.0/MapX_UNDP%3Aglobal_grid_prob_expansion_2030_unused@EPSG%3A3857@png/2" units-per-pixel="39135.7584765625" order="2"/>
    <TileSet href="https://datacore.unepgrid.ch/geoserver/gwc/service/tms/1.0.0/MapX_UNDP%3Aglobal_grid_prob_expansion_2030_unused@EPSG%3A3857@png/3" units-per-pixel="19567.87923828125" order="3"/>
    <TileSet href="https://datacore.unepgrid.ch/geoserver/gwc/service/tms/1.0.0/MapX_UNDP%3Aglobal_grid_prob_expansion_2030_unused@EPSG%3A3857@png/4" units-per-pixel="9783.939619140625" order="4"/>
    <TileSet href="https://datacore.unepgrid.ch/geoserver/gwc/service/tms/1.0.0/MapX_UNDP%3Aglobal_grid_prob_expansion_2030_unused@EPSG%3A3857@png/5" units-per-pixel="4891.9698095703125" order="5"/>
    <TileSet href="https://datacore.unepgrid.ch/geoserver/gwc/service/tms/1.0.0/MapX_UNDP%3Aglobal_grid_prob_expansion_2030_unused@EPSG%3A3857@png/6" units-per-pixel="2445.9849047851562" order="6"/>
    <TileSet href="https://datacore.unepgrid.ch/geoserver/gwc/service/tms/1.0.0/MapX_UNDP%3Aglobal_grid_prob_expansion_2030_unused@EPSG%3A3857@png/7" units-per-pixel="1222.9924523925781" order="7"/>
    <TileSet href="https://datacore.unepgrid.ch/geoserver/gwc/service/tms/1.0.0/MapX_UNDP%3Aglobal_grid_prob_expansion_2030_unused@EPSG%3A3857@png/8" units-per-pixel="611.4962261962891" order="8"/>
    <TileSet href="https://datacore.unepgrid.ch/geoserver/gwc/service/tms/1.0.0/MapX_UNDP%3Aglobal_grid_prob_expansion_2030_unused@EPSG%3A3857@png/9" units-per-pixel="305.74811309814453" order="9"/>
    <TileSet href="https://datacore.unepgrid.ch/geoserver/gwc/service/tms/1.0.0/MapX_UNDP%3Aglobal_grid_prob_expansion_2030_unused@EPSG%3A3857@png/10" units-per-pixel="152.87405654907226" order="10"/>
    <TileSet href="https://datacore.unepgrid.ch/geoserver/gwc/service/tms/1.0.0/MapX_UNDP%3Aglobal_grid_prob_expansion_2030_unused@EPSG%3A3857@png/11" units-per-pixel="76.43702827453613" order="11"/>
    <TileSet href="https://datacore.unepgrid.ch/geoserver/gwc/service/tms/1.0.0/MapX_UNDP%3Aglobal_grid_prob_expansion_2030_unused@EPSG%3A3857@png/12" units-per-pixel="38.218514137268066" order="12"/>
    <TileSet href="https://datacore.unepgrid.ch/geoserver/gwc/service/tms/1.0.0/MapX_UNDP%3Aglobal_grid_prob_expansion_2030_unused@EPSG%3A3857@png/13" units-per-pixel="19.109257068634033" order="13"/>
    <TileSet href="https://datacore.unepgrid.ch/geoserver/gwc/service/tms/1.0.0/MapX_UNDP%3Aglobal_grid_prob_expansion_2030_unused@EPSG%3A3857@png/14" units-per-pixel="9.554628534317017" order="14"/>
    <TileSet href="https://datacore.unepgrid.ch/geoserver/gwc/service/tms/1.0.0/MapX_UNDP%3Aglobal_grid_prob_expansion_2030_unused@EPSG%3A3857@png/15" units-per-pixel="4.777314267158508" order="15"/>
    <TileSet href="https://datacore.unepgrid.ch/geoserver/gwc/service/tms/1.0.0/MapX_UNDP%3Aglobal_grid_prob_expansion_2030_unused@EPSG%3A3857@png/16" units-per-pixel="2.388657133579254" order="16"/>
    <TileSet href="https://datacore.unepgrid.ch/geoserver/gwc/service/tms/1.0.0/MapX_UNDP%3Aglobal_grid_prob_expansion_2030_unused@EPSG%3A3857@png/17" units-per-pixel="1.194328566789627" order="17"/>
    <TileSet href="https://datacore.unepgrid.ch/geoserver/gwc/service/tms/1.0.0/MapX_UNDP%3Aglobal_grid_prob_expansion_2030_unused@EPSG%3A3857@png/18" units-per-pixel="0.5971642833948135" order="18"/>
    <TileSet href="https://datacore.unepgrid.ch/geoserver/gwc/service/tms/1.0.0/MapX_UNDP%3Aglobal_grid_prob_expansion_2030_unused@EPSG%3A3857@png/19" units-per-pixel="0.2985821416974068" order="19"/>
    <TileSet href="https://datacore.unepgrid.ch/geoserver/gwc/service/tms/1.0.0/MapX_UNDP%3Aglobal_grid_prob_expansion_2030_unused@EPSG%3A3857@png/20" units-per-pixel="0.1492910708487034" order="20"/>
    <TileSet href="https://datacore.unepgrid.ch/geoserver/gwc/service/tms/1.0.0/MapX_UNDP%3Aglobal_grid_prob_expansion_2030_unused@EPSG%3A3857@png/21" units-per-pixel="0.0746455354243517" order="21"/>
    <TileSet href="https://datacore.unepgrid.ch/geoserver/gwc/service/tms/1.0.0/MapX_UNDP%3Aglobal_grid_prob_expansion_2030_unused@EPSG%3A3857@png/22" units-per-pixel="0.0373227677121758" order="22"/>
    <TileSet href="https://datacore.unepgrid.ch/geoserver/gwc/service/tms/1.0.0/MapX_UNDP%3Aglobal_grid_prob_expansion_2030_unused@EPSG%3A3857@png/23" units-per-pixel="0.0186613838560879" order="23"/>
    <TileSet href="https://datacore.unepgrid.ch/geoserver/gwc/service/tms/1.0.0/MapX_UNDP%3Aglobal_grid_prob_expansion_2030_unused@EPSG%3A3857@png/24" units-per-pixel="0.009330691928044" order="24"/>
    <TileSet href="https://datacore.unepgrid.ch/geoserver/gwc/service/tms/1.0.0/MapX_UNDP%3Aglobal_grid_prob_expansion_2030_unused@EPSG%3A3857@png/25" units-per-pixel="0.004665345964022" order="25"/>
    <TileSet href="https://datacore.unepgrid.ch/geoserver/gwc/service/tms/1.0.0/MapX_UNDP%3Aglobal_grid_prob_expansion_2030_unused@EPSG%3A3857@png/26" units-per-pixel="0.002332672982011" order="26"/>
    <TileSet href="https://datacore.unepgrid.ch/geoserver/gwc/service/tms/1.0.0/MapX_UNDP%3Aglobal_grid_prob_expansion_2030_unused@EPSG%3A3857@png/27" units-per-pixel="0.0011663364910055" order="27"/>
    <TileSet href="https://datacore.unepgrid.ch/geoserver/gwc/service/tms/1.0.0/MapX_UNDP%3Aglobal_grid_prob_expansion_2030_unused@EPSG%3A3857@png/28" units-per-pixel="5.831682455027E-4" order="28"/>
    <TileSet href="https://datacore.unepgrid.ch/geoserver/gwc/service/tms/1.0.0/MapX_UNDP%3Aglobal_grid_prob_expansion_2030_unused@EPSG%3A3857@png/29" units-per-pixel="2.915841227514E-4" order="29"/>
    <TileSet href="https://datacore.unepgrid.ch/geoserver/gwc/service/tms/1.0.0/MapX_UNDP%3Aglobal_grid_prob_expansion_2030_unused@EPSG%3A3857@png/30" units-per-pixel="1.457920613757E-4" order="30"/>
  </TileSets>
</TileMap>