<?xml version="1.0" encoding="UTF-8"?>
<TileMap version="1.0.0" tilemapservice="https://datacore.unepgrid.ch/geoserver/gwc/service/tms/1.0.0">
  <Title>Rarity-weighted richness</Title>
  <Abstract>&lt;span style=&quot;font-size:0.95em&quot;&gt;&lt;span style=&quot;font-size:1.1em&quot;&gt;&lt;b&gt;Description&lt;/b&gt;&lt;/span&gt; Rarity weighted richness is a measure that combines endemism and species richness of amphibians, birds, mammals, reptiles and a representative set of plant taxa in each 10 km cell. This index lowers the contribution of wide ranging species to overall species richness and highlights the areas that have a relatively high proportion of narrow‐range species. Species ranges were rasterised at 1 km resolution from polygon maps from the IUCN Red List (IUCN Red List of Threatened Species (2019) Version 2019.2. http://www.iucnredlist.org), the Global Assessment of Reptile Distributions (GARD) (Roll et al. (2017), Version 1.5, https://datadryad.org/stash/dataset/doi:10.5061/dryad.83s7k) and the Botanical Information and Ecology Network (BIEN) database (Enquist et al. 2019 and Maitner et al. 2017, version 4.1. http://bien.nceas.ucsb.edu/bien/biendata/). Additional vascular plant species ranges were created from point data from the IUCN Red List (IUCN Red List of Threatened Species (2019) Version 2019.2. http://www.iucnredlist.org), Botanic Gardens Conservation International (BGCI) (https://www.bgci.org/) and the Global Biodiversity Information Facility (GBIF) (https://www.gbif.org/). Species range maps were refined, when possible, by removing unsuitable areas using information on species’ habitat preferences and species&apos; known altitudinal limits. Habitats distributions were obtained from the global map of terrestrial habitat types (Jung et al. in prep), while altitudinal data was obtained from the Global Multi-resolution Terrain Elevation Data (GMTED2010) (USGS). This refinement process produced Areas of Habitat (AOH) maps for each species (Brooks et al. 2019).&lt;br&gt;&lt;br&gt;Each grid cell of the species’ AOH was then scored for range-size rarity (the proportion of the species’ AOH the cell represents; i.e. size of grid cell/AOH). The total score for each cell was calculated by summing scores across all the species whose AOH intersected with it. Higher values occur in cells with more species that have smaller ranges (i.e. both the number of species and the degree to which their ranges are restricted contribute to the range rarity score).&lt;br&gt;&lt;br&gt;NatureMap is currently soliciting feedback on the validity of this map at the national and sub-national levels. Please submit any comments via the &lt;a href=&quot;https://explorer.naturemap.earth/&quot; target=&quot;_blank&quot;&gt;Nature Map Explorer&lt;/a&gt;.&lt;br&gt;&lt;br&gt;&lt;b&gt;References&lt;/b&gt;&lt;br&gt;&lt;/&lt;span&gt;Brooks, T. M. et al. (2019). Measuring Terrestrial Area of Habitat (AOH) and Its Utility for the IUCN Red List. Trends in Ecology &amp; Evolution 34:977–986. &lt;a href=&quot;https://doi.org/10.1016/j.tree.2019.06.009&quot; target=&quot;_blank&quot;&gt;doi.org/10.1016/j.tree.2019.06.009&lt;/a&gt;.&lt;br&gt;&lt;br&gt;BGCI (2019). ThreatSearch online database. &lt;a href=&quot;www.bgci.org/threat_search.php&quot; target=&quot;_blank&quot;&gt;www.bgci.org/threat_search.php&lt;/a&gt;.&lt;br&gt;&lt;br&gt;Enquist, B.J. et al. (in prep.). Botanical big data shows that plant diversity in the New World is driven by climatic-linked differences in evolutionary rates and biotic exclusion.&lt;br&gt;&lt;br&gt;Jung, M. et al. (in prep). A global map of species terrestrial habitat types.&lt;br&gt;&lt;br&gt;Maitner, B.S. et al. (2017). The BIEN R package: A tool to access the Botanical Information and Ecology Network (BIEN) database. Methods in Ecology and Evolution; 9:373–379. &lt;a href=&quot;https://besjournals.onlinelibrary.wiley.com/doi/10.1111/2041-210X.12861&quot; target=&quot;_blank&quot;&gt;doi/10.1111/2041-210X.12861&lt;/a&gt;.&lt;br&gt;&lt;br&gt;Roll, U. et al. (2017), The global distribution of tetrapods reveals a need for targeted reptile conservation, Nature Ecology &amp; Evolution, 1: 1677–1682, &lt;a href=&quot;https://doi.org/10.1038/s41559-017-0332-2&quot; target=&quot;_blank&quot;&gt;doi.org/10.1038/s41559-017-0332-2&lt;/a&gt;.&lt;/span&gt;</Abstract>
  <SRS>EPSG:3857</SRS>
  <BoundingBox minx="-2.003750834E7" miny="-2.003750834E7" maxx="2.003750834E7" maxy="2.003750834E7"/>
  <Origin x="-2.003750834E7" y="-2.003750834E7"/>
  <TileFormat width="256" height="256" mime-type="image/png" extension="png"/>
  <TileSets profile="local">
    <TileSet href="https://datacore.unepgrid.ch/geoserver/gwc/service/tms/1.0.0/MapX_UNDP%3Ararity_weighted_richness_opt@EPSG%3A3857@png/0" units-per-pixel="156543.03390625" order="0"/>
    <TileSet href="https://datacore.unepgrid.ch/geoserver/gwc/service/tms/1.0.0/MapX_UNDP%3Ararity_weighted_richness_opt@EPSG%3A3857@png/1" units-per-pixel="78271.516953125" order="1"/>
    <TileSet href="https://datacore.unepgrid.ch/geoserver/gwc/service/tms/1.0.0/MapX_UNDP%3Ararity_weighted_richness_opt@EPSG%3A3857@png/2" units-per-pixel="39135.7584765625" order="2"/>
    <TileSet href="https://datacore.unepgrid.ch/geoserver/gwc/service/tms/1.0.0/MapX_UNDP%3Ararity_weighted_richness_opt@EPSG%3A3857@png/3" units-per-pixel="19567.87923828125" order="3"/>
    <TileSet href="https://datacore.unepgrid.ch/geoserver/gwc/service/tms/1.0.0/MapX_UNDP%3Ararity_weighted_richness_opt@EPSG%3A3857@png/4" units-per-pixel="9783.939619140625" order="4"/>
    <TileSet href="https://datacore.unepgrid.ch/geoserver/gwc/service/tms/1.0.0/MapX_UNDP%3Ararity_weighted_richness_opt@EPSG%3A3857@png/5" units-per-pixel="4891.9698095703125" order="5"/>
    <TileSet href="https://datacore.unepgrid.ch/geoserver/gwc/service/tms/1.0.0/MapX_UNDP%3Ararity_weighted_richness_opt@EPSG%3A3857@png/6" units-per-pixel="2445.9849047851562" order="6"/>
    <TileSet href="https://datacore.unepgrid.ch/geoserver/gwc/service/tms/1.0.0/MapX_UNDP%3Ararity_weighted_richness_opt@EPSG%3A3857@png/7" units-per-pixel="1222.9924523925781" order="7"/>
    <TileSet href="https://datacore.unepgrid.ch/geoserver/gwc/service/tms/1.0.0/MapX_UNDP%3Ararity_weighted_richness_opt@EPSG%3A3857@png/8" units-per-pixel="611.4962261962891" order="8"/>
    <TileSet href="https://datacore.unepgrid.ch/geoserver/gwc/service/tms/1.0.0/MapX_UNDP%3Ararity_weighted_richness_opt@EPSG%3A3857@png/9" units-per-pixel="305.74811309814453" order="9"/>
    <TileSet href="https://datacore.unepgrid.ch/geoserver/gwc/service/tms/1.0.0/MapX_UNDP%3Ararity_weighted_richness_opt@EPSG%3A3857@png/10" units-per-pixel="152.87405654907226" order="10"/>
    <TileSet href="https://datacore.unepgrid.ch/geoserver/gwc/service/tms/1.0.0/MapX_UNDP%3Ararity_weighted_richness_opt@EPSG%3A3857@png/11" units-per-pixel="76.43702827453613" order="11"/>
    <TileSet href="https://datacore.unepgrid.ch/geoserver/gwc/service/tms/1.0.0/MapX_UNDP%3Ararity_weighted_richness_opt@EPSG%3A3857@png/12" units-per-pixel="38.218514137268066" order="12"/>
    <TileSet href="https://datacore.unepgrid.ch/geoserver/gwc/service/tms/1.0.0/MapX_UNDP%3Ararity_weighted_richness_opt@EPSG%3A3857@png/13" units-per-pixel="19.109257068634033" order="13"/>
    <TileSet href="https://datacore.unepgrid.ch/geoserver/gwc/service/tms/1.0.0/MapX_UNDP%3Ararity_weighted_richness_opt@EPSG%3A3857@png/14" units-per-pixel="9.554628534317017" order="14"/>
    <TileSet href="https://datacore.unepgrid.ch/geoserver/gwc/service/tms/1.0.0/MapX_UNDP%3Ararity_weighted_richness_opt@EPSG%3A3857@png/15" units-per-pixel="4.777314267158508" order="15"/>
    <TileSet href="https://datacore.unepgrid.ch/geoserver/gwc/service/tms/1.0.0/MapX_UNDP%3Ararity_weighted_richness_opt@EPSG%3A3857@png/16" units-per-pixel="2.388657133579254" order="16"/>
    <TileSet href="https://datacore.unepgrid.ch/geoserver/gwc/service/tms/1.0.0/MapX_UNDP%3Ararity_weighted_richness_opt@EPSG%3A3857@png/17" units-per-pixel="1.194328566789627" order="17"/>
    <TileSet href="https://datacore.unepgrid.ch/geoserver/gwc/service/tms/1.0.0/MapX_UNDP%3Ararity_weighted_richness_opt@EPSG%3A3857@png/18" units-per-pixel="0.5971642833948135" order="18"/>
    <TileSet href="https://datacore.unepgrid.ch/geoserver/gwc/service/tms/1.0.0/MapX_UNDP%3Ararity_weighted_richness_opt@EPSG%3A3857@png/19" units-per-pixel="0.2985821416974068" order="19"/>
    <TileSet href="https://datacore.unepgrid.ch/geoserver/gwc/service/tms/1.0.0/MapX_UNDP%3Ararity_weighted_richness_opt@EPSG%3A3857@png/20" units-per-pixel="0.1492910708487034" order="20"/>
    <TileSet href="https://datacore.unepgrid.ch/geoserver/gwc/service/tms/1.0.0/MapX_UNDP%3Ararity_weighted_richness_opt@EPSG%3A3857@png/21" units-per-pixel="0.0746455354243517" order="21"/>
    <TileSet href="https://datacore.unepgrid.ch/geoserver/gwc/service/tms/1.0.0/MapX_UNDP%3Ararity_weighted_richness_opt@EPSG%3A3857@png/22" units-per-pixel="0.0373227677121758" order="22"/>
    <TileSet href="https://datacore.unepgrid.ch/geoserver/gwc/service/tms/1.0.0/MapX_UNDP%3Ararity_weighted_richness_opt@EPSG%3A3857@png/23" units-per-pixel="0.0186613838560879" order="23"/>
    <TileSet href="https://datacore.unepgrid.ch/geoserver/gwc/service/tms/1.0.0/MapX_UNDP%3Ararity_weighted_richness_opt@EPSG%3A3857@png/24" units-per-pixel="0.009330691928044" order="24"/>
    <TileSet href="https://datacore.unepgrid.ch/geoserver/gwc/service/tms/1.0.0/MapX_UNDP%3Ararity_weighted_richness_opt@EPSG%3A3857@png/25" units-per-pixel="0.004665345964022" order="25"/>
    <TileSet href="https://datacore.unepgrid.ch/geoserver/gwc/service/tms/1.0.0/MapX_UNDP%3Ararity_weighted_richness_opt@EPSG%3A3857@png/26" units-per-pixel="0.002332672982011" order="26"/>
    <TileSet href="https://datacore.unepgrid.ch/geoserver/gwc/service/tms/1.0.0/MapX_UNDP%3Ararity_weighted_richness_opt@EPSG%3A3857@png/27" units-per-pixel="0.0011663364910055" order="27"/>
    <TileSet href="https://datacore.unepgrid.ch/geoserver/gwc/service/tms/1.0.0/MapX_UNDP%3Ararity_weighted_richness_opt@EPSG%3A3857@png/28" units-per-pixel="5.831682455027E-4" order="28"/>
    <TileSet href="https://datacore.unepgrid.ch/geoserver/gwc/service/tms/1.0.0/MapX_UNDP%3Ararity_weighted_richness_opt@EPSG%3A3857@png/29" units-per-pixel="2.915841227514E-4" order="29"/>
    <TileSet href="https://datacore.unepgrid.ch/geoserver/gwc/service/tms/1.0.0/MapX_UNDP%3Ararity_weighted_richness_opt@EPSG%3A3857@png/30" units-per-pixel="1.457920613757E-4" order="30"/>
  </TileSets>
</TileMap>