<?xml version="1.0" encoding="UTF-8"?>
<TileMap version="1.0.0" tilemapservice="https://datacore.unepgrid.ch/geoserver/gwc/service/tms/1.0.0">
  <Title>USAID_CMM_bivariate_ClimateExp_TotalFrag</Title>
  <Abstract>The first mechanism of compound risk assessment—a bivariate map—integrates the fragility and climate data before they are mapped to show the intersection of fragility and climate risks at the first administrative division level for all countries for which data are available. This approach allows comparison of countries across all fragility categories on a single map. However, it loses some granularity in the subnational climate exposure data, which must be aggregated to the first administrative division to be cross-tabulated with the fragility data.
The bivariate map uses the total climate exposure data and total fragility data. It is created using the first administrative division polygon files from the Global Administrative Areas database version 2.8. In this map, each country’s national-level fragility category is applied to all administrative divisions in the country. The bivariate map thus retains the five fragility categories seen in the total fragility measure, classifying areas as having low, some, moderate, high, or highest fragility.
The climate exposure category is based on a k-median clustering algorithm. The median climate exposure score for each administrative division is determined with spatial analysis in ArcGIS. These median scores are then clustered into five categories of low to high exposure using the k-median algorithm contained in Stata.15.
The cross-tabulation of the five fragility categories and the five climate exposure categories are represented on the final bivariate map.
The total exposure to climate retain the five exposure categories of low to high exposure (1 to 5) based on the k-median clustering algorithm. The median climate exposure score for each administrative division is determined with spatial analysis in ArcGIS. These median scores are then clustered into five categories of low to high exposure using the k-median algorithm contained in Stata.
The climate exposure portion of this study aims to identify places most likely vulnerable to a combination of climate hazards. Geographic location makes some countries more susceptible to climate hazards. Within countries, some areas, such as the coasts, have more exposure to certain kinds of climate hazards. This study assesses climate hazard exposure using historical data on the frequency and magnitude of six hazards, including cyclones, flood events, wildfire events, rainfall anomalies, and chronic aridity. The sixth hazard is a measure of low-elevation coastal zones, which may be susceptible to storm surges and future sea-level rise.
The goal is to identify places that in the recent historical record have faced high exposure to climaterelated hazards. This seeks to get a snapshot of places of chronic  concern over a long enough time period to say that these are places that have been historically affected by climate-related hazards. The indicators included here use the most recent data available. Some of these indicators, like cyclones, have longerterm data available, while others like floods have data for fewer years. In all cases, this project uses the most recent and broadest set of years for which global data are available to get the best snapshot of climate exposure in the recent past, as close as possible to the present.

The total fragility data retain the five fragility categories seen in the total fragility measure, classifying areas as having low, some, moderate, high, or highest fragility.
To help achieve this study’s goal of identifying the intersection of fragility and climate risks globally, this study develops a new fragility measure. Developing a new measure specifically for this purpose provides a comprehensive fragility measure while avoiding use of existing fragility measures that include environmental indicators and thus should not be overlaid on climate hazards. This study uses open-source data to create a measure of state fragility that is similar in composition and outcome to USAID’s internal methods and framework for analyzing fragility.11 Like USAID’s internal measure, the new measure assesses fragility in state effectiveness and legitimacy in four key spheres:
political, security, economic, and social. This is based on an understanding of fragility as being rooted in poor state capacity and poor state-society relationships, both of which can contribute to instability. Poor state capacity and state-society relationships can lead to and perpetuate other forms of overt instability, including conflict or an inability to address and mitigate stresses such as a changing environment, difficult global financial situations, or conflict in neighboring states. 

This  &lt;a href=&quot;https://pdf.usaid.gov/pdf_docs/PA00TBFH.pdf&quot;target=_blank&gt;document&lt;/a&gt; provide a detailed approach on the generation of this bivariate map and its attributes.</Abstract>
  <SRS>EPSG:3857</SRS>
  <BoundingBox minx="-2.003750834E7" miny="-2.003750834E7" maxx="2.003750834E7" maxy="2.003750834E7"/>
  <Origin x="-2.003750834E7" y="-2.003750834E7"/>
  <TileFormat width="256" height="256" mime-type="image/png" extension="png"/>
  <TileSets profile="local">
    <TileSet href="https://datacore.unepgrid.ch/geoserver/gwc/service/tms/1.0.0/UN_Sahel%3AUSAID_CMM_bivariate_exp_frag@EPSG%3A3857@png/0" units-per-pixel="156543.03390625" order="0"/>
    <TileSet href="https://datacore.unepgrid.ch/geoserver/gwc/service/tms/1.0.0/UN_Sahel%3AUSAID_CMM_bivariate_exp_frag@EPSG%3A3857@png/1" units-per-pixel="78271.516953125" order="1"/>
    <TileSet href="https://datacore.unepgrid.ch/geoserver/gwc/service/tms/1.0.0/UN_Sahel%3AUSAID_CMM_bivariate_exp_frag@EPSG%3A3857@png/2" units-per-pixel="39135.7584765625" order="2"/>
    <TileSet href="https://datacore.unepgrid.ch/geoserver/gwc/service/tms/1.0.0/UN_Sahel%3AUSAID_CMM_bivariate_exp_frag@EPSG%3A3857@png/3" units-per-pixel="19567.87923828125" order="3"/>
    <TileSet href="https://datacore.unepgrid.ch/geoserver/gwc/service/tms/1.0.0/UN_Sahel%3AUSAID_CMM_bivariate_exp_frag@EPSG%3A3857@png/4" units-per-pixel="9783.939619140625" order="4"/>
    <TileSet href="https://datacore.unepgrid.ch/geoserver/gwc/service/tms/1.0.0/UN_Sahel%3AUSAID_CMM_bivariate_exp_frag@EPSG%3A3857@png/5" units-per-pixel="4891.9698095703125" order="5"/>
    <TileSet href="https://datacore.unepgrid.ch/geoserver/gwc/service/tms/1.0.0/UN_Sahel%3AUSAID_CMM_bivariate_exp_frag@EPSG%3A3857@png/6" units-per-pixel="2445.9849047851562" order="6"/>
    <TileSet href="https://datacore.unepgrid.ch/geoserver/gwc/service/tms/1.0.0/UN_Sahel%3AUSAID_CMM_bivariate_exp_frag@EPSG%3A3857@png/7" units-per-pixel="1222.9924523925781" order="7"/>
    <TileSet href="https://datacore.unepgrid.ch/geoserver/gwc/service/tms/1.0.0/UN_Sahel%3AUSAID_CMM_bivariate_exp_frag@EPSG%3A3857@png/8" units-per-pixel="611.4962261962891" order="8"/>
    <TileSet href="https://datacore.unepgrid.ch/geoserver/gwc/service/tms/1.0.0/UN_Sahel%3AUSAID_CMM_bivariate_exp_frag@EPSG%3A3857@png/9" units-per-pixel="305.74811309814453" order="9"/>
    <TileSet href="https://datacore.unepgrid.ch/geoserver/gwc/service/tms/1.0.0/UN_Sahel%3AUSAID_CMM_bivariate_exp_frag@EPSG%3A3857@png/10" units-per-pixel="152.87405654907226" order="10"/>
    <TileSet href="https://datacore.unepgrid.ch/geoserver/gwc/service/tms/1.0.0/UN_Sahel%3AUSAID_CMM_bivariate_exp_frag@EPSG%3A3857@png/11" units-per-pixel="76.43702827453613" order="11"/>
    <TileSet href="https://datacore.unepgrid.ch/geoserver/gwc/service/tms/1.0.0/UN_Sahel%3AUSAID_CMM_bivariate_exp_frag@EPSG%3A3857@png/12" units-per-pixel="38.218514137268066" order="12"/>
    <TileSet href="https://datacore.unepgrid.ch/geoserver/gwc/service/tms/1.0.0/UN_Sahel%3AUSAID_CMM_bivariate_exp_frag@EPSG%3A3857@png/13" units-per-pixel="19.109257068634033" order="13"/>
    <TileSet href="https://datacore.unepgrid.ch/geoserver/gwc/service/tms/1.0.0/UN_Sahel%3AUSAID_CMM_bivariate_exp_frag@EPSG%3A3857@png/14" units-per-pixel="9.554628534317017" order="14"/>
    <TileSet href="https://datacore.unepgrid.ch/geoserver/gwc/service/tms/1.0.0/UN_Sahel%3AUSAID_CMM_bivariate_exp_frag@EPSG%3A3857@png/15" units-per-pixel="4.777314267158508" order="15"/>
    <TileSet href="https://datacore.unepgrid.ch/geoserver/gwc/service/tms/1.0.0/UN_Sahel%3AUSAID_CMM_bivariate_exp_frag@EPSG%3A3857@png/16" units-per-pixel="2.388657133579254" order="16"/>
    <TileSet href="https://datacore.unepgrid.ch/geoserver/gwc/service/tms/1.0.0/UN_Sahel%3AUSAID_CMM_bivariate_exp_frag@EPSG%3A3857@png/17" units-per-pixel="1.194328566789627" order="17"/>
    <TileSet href="https://datacore.unepgrid.ch/geoserver/gwc/service/tms/1.0.0/UN_Sahel%3AUSAID_CMM_bivariate_exp_frag@EPSG%3A3857@png/18" units-per-pixel="0.5971642833948135" order="18"/>
    <TileSet href="https://datacore.unepgrid.ch/geoserver/gwc/service/tms/1.0.0/UN_Sahel%3AUSAID_CMM_bivariate_exp_frag@EPSG%3A3857@png/19" units-per-pixel="0.2985821416974068" order="19"/>
    <TileSet href="https://datacore.unepgrid.ch/geoserver/gwc/service/tms/1.0.0/UN_Sahel%3AUSAID_CMM_bivariate_exp_frag@EPSG%3A3857@png/20" units-per-pixel="0.1492910708487034" order="20"/>
    <TileSet href="https://datacore.unepgrid.ch/geoserver/gwc/service/tms/1.0.0/UN_Sahel%3AUSAID_CMM_bivariate_exp_frag@EPSG%3A3857@png/21" units-per-pixel="0.0746455354243517" order="21"/>
    <TileSet href="https://datacore.unepgrid.ch/geoserver/gwc/service/tms/1.0.0/UN_Sahel%3AUSAID_CMM_bivariate_exp_frag@EPSG%3A3857@png/22" units-per-pixel="0.0373227677121758" order="22"/>
    <TileSet href="https://datacore.unepgrid.ch/geoserver/gwc/service/tms/1.0.0/UN_Sahel%3AUSAID_CMM_bivariate_exp_frag@EPSG%3A3857@png/23" units-per-pixel="0.0186613838560879" order="23"/>
    <TileSet href="https://datacore.unepgrid.ch/geoserver/gwc/service/tms/1.0.0/UN_Sahel%3AUSAID_CMM_bivariate_exp_frag@EPSG%3A3857@png/24" units-per-pixel="0.009330691928044" order="24"/>
    <TileSet href="https://datacore.unepgrid.ch/geoserver/gwc/service/tms/1.0.0/UN_Sahel%3AUSAID_CMM_bivariate_exp_frag@EPSG%3A3857@png/25" units-per-pixel="0.004665345964022" order="25"/>
    <TileSet href="https://datacore.unepgrid.ch/geoserver/gwc/service/tms/1.0.0/UN_Sahel%3AUSAID_CMM_bivariate_exp_frag@EPSG%3A3857@png/26" units-per-pixel="0.002332672982011" order="26"/>
    <TileSet href="https://datacore.unepgrid.ch/geoserver/gwc/service/tms/1.0.0/UN_Sahel%3AUSAID_CMM_bivariate_exp_frag@EPSG%3A3857@png/27" units-per-pixel="0.0011663364910055" order="27"/>
    <TileSet href="https://datacore.unepgrid.ch/geoserver/gwc/service/tms/1.0.0/UN_Sahel%3AUSAID_CMM_bivariate_exp_frag@EPSG%3A3857@png/28" units-per-pixel="5.831682455027E-4" order="28"/>
    <TileSet href="https://datacore.unepgrid.ch/geoserver/gwc/service/tms/1.0.0/UN_Sahel%3AUSAID_CMM_bivariate_exp_frag@EPSG%3A3857@png/29" units-per-pixel="2.915841227514E-4" order="29"/>
    <TileSet href="https://datacore.unepgrid.ch/geoserver/gwc/service/tms/1.0.0/UN_Sahel%3AUSAID_CMM_bivariate_exp_frag@EPSG%3A3857@png/30" units-per-pixel="1.457920613757E-4" order="30"/>
  </TileSets>
</TileMap>