<?xml version="1.0" encoding="UTF-8"?>
<TileMap version="1.0.0" tilemapservice="https://datacore.unepgrid.ch/geoserver/gwc/service/tms/1.0.0">
  <Title>Central Congo Basin peat carbon density (2022)</Title>
  <Abstract>Metadata for the file:
Crezee_2022_Median_Carbon_density_2000runs.tif

This is the file used to create Figure 4a of the paper:

Crezee et al. (2022). Nature Geoscience. Mapping peat thickness and carbon stocks of the central Congo Basin using field data. 

-------------------------------------------------------------------------------------
This is a raster file representing modelled peat carbon density (in Mg C per ha)
across the central Congo Basin peatland complex. 

For each pixel, the median value of 2,000 carbon density estimates is provided. The 
2,000 carbon density estimates were obtained by multiplying 100 Random Forest peat thickness 
estimates with 20 bootstrapped peat thickness-carbon density regressions (ED Fig. 7), which
were normally distributed arond the best-fitting peat thickness-carbon density regression.

The peat thickness-carbon density regression is based on 80 peat cores sampled in the field.

----------------------------------------------------------------------------------------
Projection and file details:

The file is a GeoTIFF in a lat/long WGS-84 projection and a pixel size of 0.00044444 degrees (c. 50 m).

---------------------------------------------------------------------------------------
You are free to use these data for any purpose provided you cite the original paper.

The file was created by Bart Crezee and Edward Mitchard.
For questions about these data layers please contact Edward Mitchard 
at edward.mitchard@ed.ac.uk</Abstract>
  <SRS>EPSG:3857</SRS>
  <BoundingBox minx="-2.003750834E7" miny="-2.003750834E7" maxx="2.003750834E7" maxy="2.003750834E7"/>
  <Origin x="-2.003750834E7" y="-2.003750834E7"/>
  <TileFormat width="256" height="256" mime-type="image/png" extension="png"/>
  <TileSets profile="local">
    <TileSet href="https://datacore.unepgrid.ch/geoserver/gwc/service/tms/1.0.0/peatlands%3ACrezee_2022_Median_Carbon_density_2000runs_opt@EPSG%3A3857@png/0" units-per-pixel="156543.03390625" order="0"/>
    <TileSet href="https://datacore.unepgrid.ch/geoserver/gwc/service/tms/1.0.0/peatlands%3ACrezee_2022_Median_Carbon_density_2000runs_opt@EPSG%3A3857@png/1" units-per-pixel="78271.516953125" order="1"/>
    <TileSet href="https://datacore.unepgrid.ch/geoserver/gwc/service/tms/1.0.0/peatlands%3ACrezee_2022_Median_Carbon_density_2000runs_opt@EPSG%3A3857@png/2" units-per-pixel="39135.7584765625" order="2"/>
    <TileSet href="https://datacore.unepgrid.ch/geoserver/gwc/service/tms/1.0.0/peatlands%3ACrezee_2022_Median_Carbon_density_2000runs_opt@EPSG%3A3857@png/3" units-per-pixel="19567.87923828125" order="3"/>
    <TileSet href="https://datacore.unepgrid.ch/geoserver/gwc/service/tms/1.0.0/peatlands%3ACrezee_2022_Median_Carbon_density_2000runs_opt@EPSG%3A3857@png/4" units-per-pixel="9783.939619140625" order="4"/>
    <TileSet href="https://datacore.unepgrid.ch/geoserver/gwc/service/tms/1.0.0/peatlands%3ACrezee_2022_Median_Carbon_density_2000runs_opt@EPSG%3A3857@png/5" units-per-pixel="4891.9698095703125" order="5"/>
    <TileSet href="https://datacore.unepgrid.ch/geoserver/gwc/service/tms/1.0.0/peatlands%3ACrezee_2022_Median_Carbon_density_2000runs_opt@EPSG%3A3857@png/6" units-per-pixel="2445.9849047851562" order="6"/>
    <TileSet href="https://datacore.unepgrid.ch/geoserver/gwc/service/tms/1.0.0/peatlands%3ACrezee_2022_Median_Carbon_density_2000runs_opt@EPSG%3A3857@png/7" units-per-pixel="1222.9924523925781" order="7"/>
    <TileSet href="https://datacore.unepgrid.ch/geoserver/gwc/service/tms/1.0.0/peatlands%3ACrezee_2022_Median_Carbon_density_2000runs_opt@EPSG%3A3857@png/8" units-per-pixel="611.4962261962891" order="8"/>
    <TileSet href="https://datacore.unepgrid.ch/geoserver/gwc/service/tms/1.0.0/peatlands%3ACrezee_2022_Median_Carbon_density_2000runs_opt@EPSG%3A3857@png/9" units-per-pixel="305.74811309814453" order="9"/>
    <TileSet href="https://datacore.unepgrid.ch/geoserver/gwc/service/tms/1.0.0/peatlands%3ACrezee_2022_Median_Carbon_density_2000runs_opt@EPSG%3A3857@png/10" units-per-pixel="152.87405654907226" order="10"/>
    <TileSet href="https://datacore.unepgrid.ch/geoserver/gwc/service/tms/1.0.0/peatlands%3ACrezee_2022_Median_Carbon_density_2000runs_opt@EPSG%3A3857@png/11" units-per-pixel="76.43702827453613" order="11"/>
    <TileSet href="https://datacore.unepgrid.ch/geoserver/gwc/service/tms/1.0.0/peatlands%3ACrezee_2022_Median_Carbon_density_2000runs_opt@EPSG%3A3857@png/12" units-per-pixel="38.218514137268066" order="12"/>
    <TileSet href="https://datacore.unepgrid.ch/geoserver/gwc/service/tms/1.0.0/peatlands%3ACrezee_2022_Median_Carbon_density_2000runs_opt@EPSG%3A3857@png/13" units-per-pixel="19.109257068634033" order="13"/>
    <TileSet href="https://datacore.unepgrid.ch/geoserver/gwc/service/tms/1.0.0/peatlands%3ACrezee_2022_Median_Carbon_density_2000runs_opt@EPSG%3A3857@png/14" units-per-pixel="9.554628534317017" order="14"/>
    <TileSet href="https://datacore.unepgrid.ch/geoserver/gwc/service/tms/1.0.0/peatlands%3ACrezee_2022_Median_Carbon_density_2000runs_opt@EPSG%3A3857@png/15" units-per-pixel="4.777314267158508" order="15"/>
    <TileSet href="https://datacore.unepgrid.ch/geoserver/gwc/service/tms/1.0.0/peatlands%3ACrezee_2022_Median_Carbon_density_2000runs_opt@EPSG%3A3857@png/16" units-per-pixel="2.388657133579254" order="16"/>
    <TileSet href="https://datacore.unepgrid.ch/geoserver/gwc/service/tms/1.0.0/peatlands%3ACrezee_2022_Median_Carbon_density_2000runs_opt@EPSG%3A3857@png/17" units-per-pixel="1.194328566789627" order="17"/>
    <TileSet href="https://datacore.unepgrid.ch/geoserver/gwc/service/tms/1.0.0/peatlands%3ACrezee_2022_Median_Carbon_density_2000runs_opt@EPSG%3A3857@png/18" units-per-pixel="0.5971642833948135" order="18"/>
    <TileSet href="https://datacore.unepgrid.ch/geoserver/gwc/service/tms/1.0.0/peatlands%3ACrezee_2022_Median_Carbon_density_2000runs_opt@EPSG%3A3857@png/19" units-per-pixel="0.2985821416974068" order="19"/>
    <TileSet href="https://datacore.unepgrid.ch/geoserver/gwc/service/tms/1.0.0/peatlands%3ACrezee_2022_Median_Carbon_density_2000runs_opt@EPSG%3A3857@png/20" units-per-pixel="0.1492910708487034" order="20"/>
    <TileSet href="https://datacore.unepgrid.ch/geoserver/gwc/service/tms/1.0.0/peatlands%3ACrezee_2022_Median_Carbon_density_2000runs_opt@EPSG%3A3857@png/21" units-per-pixel="0.0746455354243517" order="21"/>
    <TileSet href="https://datacore.unepgrid.ch/geoserver/gwc/service/tms/1.0.0/peatlands%3ACrezee_2022_Median_Carbon_density_2000runs_opt@EPSG%3A3857@png/22" units-per-pixel="0.0373227677121758" order="22"/>
    <TileSet href="https://datacore.unepgrid.ch/geoserver/gwc/service/tms/1.0.0/peatlands%3ACrezee_2022_Median_Carbon_density_2000runs_opt@EPSG%3A3857@png/23" units-per-pixel="0.0186613838560879" order="23"/>
    <TileSet href="https://datacore.unepgrid.ch/geoserver/gwc/service/tms/1.0.0/peatlands%3ACrezee_2022_Median_Carbon_density_2000runs_opt@EPSG%3A3857@png/24" units-per-pixel="0.009330691928044" order="24"/>
    <TileSet href="https://datacore.unepgrid.ch/geoserver/gwc/service/tms/1.0.0/peatlands%3ACrezee_2022_Median_Carbon_density_2000runs_opt@EPSG%3A3857@png/25" units-per-pixel="0.004665345964022" order="25"/>
    <TileSet href="https://datacore.unepgrid.ch/geoserver/gwc/service/tms/1.0.0/peatlands%3ACrezee_2022_Median_Carbon_density_2000runs_opt@EPSG%3A3857@png/26" units-per-pixel="0.002332672982011" order="26"/>
    <TileSet href="https://datacore.unepgrid.ch/geoserver/gwc/service/tms/1.0.0/peatlands%3ACrezee_2022_Median_Carbon_density_2000runs_opt@EPSG%3A3857@png/27" units-per-pixel="0.0011663364910055" order="27"/>
    <TileSet href="https://datacore.unepgrid.ch/geoserver/gwc/service/tms/1.0.0/peatlands%3ACrezee_2022_Median_Carbon_density_2000runs_opt@EPSG%3A3857@png/28" units-per-pixel="5.831682455027E-4" order="28"/>
    <TileSet href="https://datacore.unepgrid.ch/geoserver/gwc/service/tms/1.0.0/peatlands%3ACrezee_2022_Median_Carbon_density_2000runs_opt@EPSG%3A3857@png/29" units-per-pixel="2.915841227514E-4" order="29"/>
    <TileSet href="https://datacore.unepgrid.ch/geoserver/gwc/service/tms/1.0.0/peatlands%3ACrezee_2022_Median_Carbon_density_2000runs_opt@EPSG%3A3857@png/30" units-per-pixel="1.457920613757E-4" order="30"/>
  </TileSets>
</TileMap>