<?xml version="1.0" encoding="UTF-8"?>
<TileMap version="1.0.0" tilemapservice="https://datacore.unepgrid.ch/geoserver/gwc/service/tms/1.0.0">
  <Title>Spatial distribution of Drought risk</Title>
  <Abstract>Drought risk in Kédougou is manifested by the combination of a climatic phenomenon and local vulnerability that amplify its impacts on agriculture and livelihoods. Indeed, data from Think Hazard indicate that a water shortage, a direct consequence of marked variability in rainfall and rising temperatures, could occur with a probability of around 20% over the next ten years. Furthermore, the study by (Boissy et al., 2024) highlights that the degradation of vegetation cover, due in particular to intensive agricultural practices and mining expansion, weakens soils and reduces their water retention capacity, thus increasing the vulnerability of local systems.</Abstract>
  <SRS>EPSG:3857</SRS>
  <BoundingBox minx="-1565430.3390625007" miny="1252344.2712499984" maxx="-1252344.2712499984" maxy="1565430.3390625007"/>
  <Origin x="-1565430.3390625007" y="1252344.2712499984"/>
  <TileFormat width="256" height="256" mime-type="image/png" extension="png"/>
  <TileSets profile="local">
    <TileSet href="https://datacore.unepgrid.ch/geoserver/gwc/service/tms/1.0.0/risk_southeast_senegal%3Adrought_risk@EPSG%3A3857@png/0" units-per-pixel="156543.03390625" order="0"/>
    <TileSet href="https://datacore.unepgrid.ch/geoserver/gwc/service/tms/1.0.0/risk_southeast_senegal%3Adrought_risk@EPSG%3A3857@png/1" units-per-pixel="78271.516953125" order="1"/>
    <TileSet href="https://datacore.unepgrid.ch/geoserver/gwc/service/tms/1.0.0/risk_southeast_senegal%3Adrought_risk@EPSG%3A3857@png/2" units-per-pixel="39135.7584765625" order="2"/>
    <TileSet href="https://datacore.unepgrid.ch/geoserver/gwc/service/tms/1.0.0/risk_southeast_senegal%3Adrought_risk@EPSG%3A3857@png/3" units-per-pixel="19567.87923828125" order="3"/>
    <TileSet href="https://datacore.unepgrid.ch/geoserver/gwc/service/tms/1.0.0/risk_southeast_senegal%3Adrought_risk@EPSG%3A3857@png/4" units-per-pixel="9783.939619140625" order="4"/>
    <TileSet href="https://datacore.unepgrid.ch/geoserver/gwc/service/tms/1.0.0/risk_southeast_senegal%3Adrought_risk@EPSG%3A3857@png/5" units-per-pixel="4891.9698095703125" order="5"/>
    <TileSet href="https://datacore.unepgrid.ch/geoserver/gwc/service/tms/1.0.0/risk_southeast_senegal%3Adrought_risk@EPSG%3A3857@png/6" units-per-pixel="2445.9849047851562" order="6"/>
    <TileSet href="https://datacore.unepgrid.ch/geoserver/gwc/service/tms/1.0.0/risk_southeast_senegal%3Adrought_risk@EPSG%3A3857@png/7" units-per-pixel="1222.9924523925781" order="7"/>
    <TileSet href="https://datacore.unepgrid.ch/geoserver/gwc/service/tms/1.0.0/risk_southeast_senegal%3Adrought_risk@EPSG%3A3857@png/8" units-per-pixel="611.4962261962891" order="8"/>
    <TileSet href="https://datacore.unepgrid.ch/geoserver/gwc/service/tms/1.0.0/risk_southeast_senegal%3Adrought_risk@EPSG%3A3857@png/9" units-per-pixel="305.74811309814453" order="9"/>
    <TileSet href="https://datacore.unepgrid.ch/geoserver/gwc/service/tms/1.0.0/risk_southeast_senegal%3Adrought_risk@EPSG%3A3857@png/10" units-per-pixel="152.87405654907226" order="10"/>
    <TileSet href="https://datacore.unepgrid.ch/geoserver/gwc/service/tms/1.0.0/risk_southeast_senegal%3Adrought_risk@EPSG%3A3857@png/11" units-per-pixel="76.43702827453613" order="11"/>
    <TileSet href="https://datacore.unepgrid.ch/geoserver/gwc/service/tms/1.0.0/risk_southeast_senegal%3Adrought_risk@EPSG%3A3857@png/12" units-per-pixel="38.218514137268066" order="12"/>
    <TileSet href="https://datacore.unepgrid.ch/geoserver/gwc/service/tms/1.0.0/risk_southeast_senegal%3Adrought_risk@EPSG%3A3857@png/13" units-per-pixel="19.109257068634033" order="13"/>
    <TileSet href="https://datacore.unepgrid.ch/geoserver/gwc/service/tms/1.0.0/risk_southeast_senegal%3Adrought_risk@EPSG%3A3857@png/14" units-per-pixel="9.554628534317017" order="14"/>
    <TileSet href="https://datacore.unepgrid.ch/geoserver/gwc/service/tms/1.0.0/risk_southeast_senegal%3Adrought_risk@EPSG%3A3857@png/15" units-per-pixel="4.777314267158508" order="15"/>
    <TileSet href="https://datacore.unepgrid.ch/geoserver/gwc/service/tms/1.0.0/risk_southeast_senegal%3Adrought_risk@EPSG%3A3857@png/16" units-per-pixel="2.388657133579254" order="16"/>
    <TileSet href="https://datacore.unepgrid.ch/geoserver/gwc/service/tms/1.0.0/risk_southeast_senegal%3Adrought_risk@EPSG%3A3857@png/17" units-per-pixel="1.194328566789627" order="17"/>
    <TileSet href="https://datacore.unepgrid.ch/geoserver/gwc/service/tms/1.0.0/risk_southeast_senegal%3Adrought_risk@EPSG%3A3857@png/18" units-per-pixel="0.5971642833948135" order="18"/>
    <TileSet href="https://datacore.unepgrid.ch/geoserver/gwc/service/tms/1.0.0/risk_southeast_senegal%3Adrought_risk@EPSG%3A3857@png/19" units-per-pixel="0.2985821416974068" order="19"/>
    <TileSet href="https://datacore.unepgrid.ch/geoserver/gwc/service/tms/1.0.0/risk_southeast_senegal%3Adrought_risk@EPSG%3A3857@png/20" units-per-pixel="0.1492910708487034" order="20"/>
    <TileSet href="https://datacore.unepgrid.ch/geoserver/gwc/service/tms/1.0.0/risk_southeast_senegal%3Adrought_risk@EPSG%3A3857@png/21" units-per-pixel="0.0746455354243517" order="21"/>
    <TileSet href="https://datacore.unepgrid.ch/geoserver/gwc/service/tms/1.0.0/risk_southeast_senegal%3Adrought_risk@EPSG%3A3857@png/22" units-per-pixel="0.0373227677121758" order="22"/>
    <TileSet href="https://datacore.unepgrid.ch/geoserver/gwc/service/tms/1.0.0/risk_southeast_senegal%3Adrought_risk@EPSG%3A3857@png/23" units-per-pixel="0.0186613838560879" order="23"/>
    <TileSet href="https://datacore.unepgrid.ch/geoserver/gwc/service/tms/1.0.0/risk_southeast_senegal%3Adrought_risk@EPSG%3A3857@png/24" units-per-pixel="0.009330691928044" order="24"/>
    <TileSet href="https://datacore.unepgrid.ch/geoserver/gwc/service/tms/1.0.0/risk_southeast_senegal%3Adrought_risk@EPSG%3A3857@png/25" units-per-pixel="0.004665345964022" order="25"/>
    <TileSet href="https://datacore.unepgrid.ch/geoserver/gwc/service/tms/1.0.0/risk_southeast_senegal%3Adrought_risk@EPSG%3A3857@png/26" units-per-pixel="0.002332672982011" order="26"/>
    <TileSet href="https://datacore.unepgrid.ch/geoserver/gwc/service/tms/1.0.0/risk_southeast_senegal%3Adrought_risk@EPSG%3A3857@png/27" units-per-pixel="0.0011663364910055" order="27"/>
    <TileSet href="https://datacore.unepgrid.ch/geoserver/gwc/service/tms/1.0.0/risk_southeast_senegal%3Adrought_risk@EPSG%3A3857@png/28" units-per-pixel="5.831682455027E-4" order="28"/>
    <TileSet href="https://datacore.unepgrid.ch/geoserver/gwc/service/tms/1.0.0/risk_southeast_senegal%3Adrought_risk@EPSG%3A3857@png/29" units-per-pixel="2.915841227514E-4" order="29"/>
    <TileSet href="https://datacore.unepgrid.ch/geoserver/gwc/service/tms/1.0.0/risk_southeast_senegal%3Adrought_risk@EPSG%3A3857@png/30" units-per-pixel="1.457920613757E-4" order="30"/>
  </TileSets>
</TileMap>